BEGIN:VCALENDAR
VERSION:2.0
PRODID:-//achurchnearyou.com//eventfeed//EN
CALSCALE:GREGORIAN
METHOD:PUBLISH
X-WR-TIMEZONE:UTC
BEGIN:VEVENT
SUMMARY:APCM
DTSTART:20250518T103000Z
DTEND:20250518T113000Z
DTSTAMP:20260424T105452Z
UID:11954162025-05-18 10:30:00+00:00achurchnearyou
CATEGORIES:
DESCRIPTION:Annual Parish Council Meeting
GEO:-0.520717;52.667647
LOCATION:St Peter & St Paul Great Casterton
URL:https://www.achurchnearyou.com/church/16574/service-and-events/events/
 1195416/
END:VEVENT
END:VCALENDAR
