BEGIN:VCALENDAR
VERSION:2.0
PRODID:-//achurchnearyou.com//eventfeed//EN
CALSCALE:GREGORIAN
METHOD:PUBLISH
X-WR-TIMEZONE:UTC
BEGIN:VEVENT
SUMMARY:Saturday Lunchtime Music
DTSTART:20260321T120000Z
DTEND:20260321T130000Z
DTSTAMP:20260423T205725Z
UID:12798052026-03-21 12:00:00+00:00achurchnearyou
CATEGORIES:
DESCRIPTION:Come and listen to McGoo - Don McGarrigle and friends sing som
 e Irish folk music in honour of St Patrick's Day
GEO:-0.520717;52.667647
LOCATION:St Peter & St Paul Great Casterton
URL:https://www.achurchnearyou.com/church/16574/service-and-events/events/
 1279805/
END:VEVENT
END:VCALENDAR
