BEGIN:VCALENDAR
VERSION:2.0
PRODID:-//achurchnearyou.com//eventfeed//EN
CALSCALE:GREGORIAN
METHOD:PUBLISH
X-WR-TIMEZONE:UTC
BEGIN:VEVENT
SUMMARY:Saturday Lunchtime Music
DTSTART:20260718T110000Z
DTEND:20260718T120000Z
DTSTAMP:20260423T021642Z
UID:13083832026-07-18 11:00:00+00:00achurchnearyou
CATEGORIES:
DESCRIPTION:Zoe Stebbings will be entertaining us.
GEO:-0.520717;52.667647
LOCATION:St Peter & St Paul Great Casterton
URL:https://www.achurchnearyou.com/church/16574/service-and-events/events/
 1308383/
END:VEVENT
END:VCALENDAR
