BEGIN:VCALENDAR
VERSION:2.0
PRODID:-//achurchnearyou.com//eventfeed//EN
CALSCALE:GREGORIAN
METHOD:PUBLISH
X-WR-TIMEZONE:UTC
BEGIN:VEVENT
SUMMARY:Cafe church in Great Casterton church hall
DTSTART;TZID=Europe/London:20250323T101500
DTEND;TZID=Europe/London:20250323T114500
DTSTAMP:20260424T051323Z
UID:8668032025-03-23 10:15:00+00:00achurchnearyou
CATEGORIES:
DESCRIPTION:All welcome for this informal service.  Sweet treats\, hot dri
 nks\, fruit juice\, activities\, informal (occasional crashy bashy!) worsh
 ip and\, not forgetting\, the all important donoughts!  Everyone welcome.
LOCATION:Great Casterton church hall
URL:https://www.achurchnearyou.com/church/16574/service-and-events/events/
 866803/
END:VEVENT
BEGIN:VEVENT
SUMMARY:Cafe church in Great Casterton church hall
DTSTART;TZID=Europe/London:20250413T101500
DTEND;TZID=Europe/London:20250413T114500
DTSTAMP:20260424T051323Z
UID:8668032025-04-13 10:15:00+01:00achurchnearyou
CATEGORIES:
DESCRIPTION:All welcome for this informal service.  Sweet treats\, hot dri
 nks\, fruit juice\, activities\, informal (occasional crashy bashy!) worsh
 ip and\, not forgetting\, the all important donoughts!  Everyone welcome.
LOCATION:Great Casterton church hall
URL:https://www.achurchnearyou.com/church/16574/service-and-events/events/
 866803/
END:VEVENT
BEGIN:VEVENT
SUMMARY:Cafe church in Great Casterton church hall
DTSTART;TZID=Europe/London:20250511T101500
DTEND;TZID=Europe/London:20250511T114500
DTSTAMP:20260424T051323Z
UID:8668032025-05-11 10:15:00+01:00achurchnearyou
CATEGORIES:
DESCRIPTION:All welcome for this informal service.  Sweet treats\, hot dri
 nks\, fruit juice\, activities\, informal (occasional crashy bashy!) worsh
 ip and\, not forgetting\, the all important donoughts!  Everyone welcome.
LOCATION:Great Casterton church hall
URL:https://www.achurchnearyou.com/church/16574/service-and-events/events/
 866803/
END:VEVENT
BEGIN:VEVENT
SUMMARY:Cafe church in Great Casterton church hall
DTSTART;TZID=Europe/London:20250608T101500
DTEND;TZID=Europe/London:20250608T114500
DTSTAMP:20260424T051323Z
UID:8668032025-06-08 10:15:00+01:00achurchnearyou
CATEGORIES:
DESCRIPTION:All welcome for this informal service.  Sweet treats\, hot dri
 nks\, fruit juice\, activities\, informal (occasional crashy bashy!) worsh
 ip and\, not forgetting\, the all important donoughts!  Everyone welcome.
LOCATION:Great Casterton church hall
URL:https://www.achurchnearyou.com/church/16574/service-and-events/events/
 866803/
END:VEVENT
BEGIN:VEVENT
SUMMARY:Cafe church in Great Casterton church hall
DTSTART;TZID=Europe/London:20250209T101500
DTEND;TZID=Europe/London:20250209T114500
DTSTAMP:20260424T051323Z
UID:8668032025-02-09 10:15:00+00:00achurchnearyou
CATEGORIES:
DESCRIPTION:All welcome for this informal service.  Sweet treats\, hot dri
 nks\, fruit juice\, activities\, informal (occasional crashy bashy!) worsh
 ip and\, not forgetting\, the all important donoughts!  Everyone welcome.
LOCATION:Great Casterton church hall
URL:https://www.achurchnearyou.com/church/16574/service-and-events/events/
 866803/
END:VEVENT
END:VCALENDAR
