BEGIN:VCALENDAR
VERSION:2.0
PRODID:-//achurchnearyou.com//eventfeed//EN
CALSCALE:GREGORIAN
METHOD:PUBLISH
X-WR-TIMEZONE:UTC
BEGIN:VEVENT
SUMMARY:"Midnight" Mass
DTSTART:20251224T190000Z
DTEND:20251224T200000Z
DTSTAMP:20260421T073926Z
UID:12695792025-12-24 19:00:00+00:00achurchnearyou
CATEGORIES:
DESCRIPTION:A specially-early Communion for Christmas Eve - for all the fa
 mily. Come and join the song of the angels.
GEO:-0.441583;52.605686
LOCATION:All Saints' Church\, Wittering
URL:https://www.achurchnearyou.com/church/16588/service-and-events/events/
 1269579/
END:VEVENT
END:VCALENDAR
