BEGIN:VCALENDAR
VERSION:2.0
PRODID:-//achurchnearyou.com//eventfeed//EN
CALSCALE:GREGORIAN
METHOD:PUBLISH
X-WR-TIMEZONE:UTC
BEGIN:VEVENT
SUMMARY:Christingle Service 2025
DTSTART:20251224T150000Z
DTEND:20251224T160000Z
DTSTAMP:20260422T121514Z
UID:12736602025-12-24 15:00:00+00:00achurchnearyou
CATEGORIES:
DESCRIPTION:Our Annual Christingle Service for All Ages. Celebrate the com
 ing of The Light of the World.
LOCATION:St Peter  Stanion
URL:https://www.achurchnearyou.com/church/16609/service-and-events/events/
 1273660/
END:VEVENT
END:VCALENDAR
