BEGIN:VCALENDAR
VERSION:2.0
PRODID:-//achurchnearyou.com//eventfeed//EN
CALSCALE:GREGORIAN
METHOD:PUBLISH
X-WR-TIMEZONE:UTC
BEGIN:VEVENT
SUMMARY:Easter Service
DTSTART:20250420T093000Z
DTEND:20250420T103000Z
DTSTAMP:20260419T185130Z
UID:11609972025-04-20 09:30:00+00:00achurchnearyou
CATEGORIES:
DESCRIPTION:Join us for our joint benefice service to celebrate Easter\, l
 ed by Rev. Jez Safford at St. John the Baptist\, Cranford on Easter Sunday
 . This service will be followed by refreshments.
LOCATION:St. John the Baptist
URL:https://www.achurchnearyou.com/church/16639/service-and-events/events/
 1160997/
END:VEVENT
END:VCALENDAR
