BEGIN:VCALENDAR
VERSION:2.0
PRODID:-//achurchnearyou.com//eventfeed//EN
CALSCALE:GREGORIAN
METHOD:PUBLISH
X-WR-TIMEZONE:UTC
BEGIN:VEVENT
SUMMARY:Ride & Stride for Churches
DTSTART:20250913T090000Z
DTEND:20250913T150000Z
DTSTAMP:20260426T051914Z
UID:10847402025-09-13 09:00:00+00:00achurchnearyou
CATEGORIES:
DESCRIPTION:We welcome all the riders\, striders\, drivers and rollers.\nS
 ponsor forms are available from Lesley and also in the Church.\nRefreshmen
 ts will be set out in the North porch.
GEO:-0.702055;52.356394
LOCATION:St Peter
URL:https://www.achurchnearyou.com/church/16640/service-and-events/events/
 1084740/
END:VEVENT
END:VCALENDAR
