BEGIN:VCALENDAR
VERSION:2.0
PRODID:-//achurchnearyou.com//eventfeed//EN
CALSCALE:GREGORIAN
METHOD:PUBLISH
X-WR-TIMEZONE:UTC
BEGIN:VEVENT
SUMMARY:Remembrance Service
DTSTART:20251109T090000Z
DTEND:20251109T100000Z
DTSTAMP:20260426T014241Z
UID:12291032025-11-09 09:00:00+00:00achurchnearyou
CATEGORIES:
DESCRIPTION:All welcome to join our Remembrance Service at 9am...
GEO:-0.702055;52.356394
LOCATION:St Peter
URL:https://www.achurchnearyou.com/church/16640/service-and-events/events/
 1229103/
END:VEVENT
END:VCALENDAR
