BEGIN:VCALENDAR
VERSION:2.0
PRODID:-//achurchnearyou.com//eventfeed//EN
CALSCALE:GREGORIAN
METHOD:PUBLISH
X-WR-TIMEZONE:UTC
BEGIN:VEVENT
SUMMARY:Easter Reflections
DTSTART:20260331T180000Z
DTEND:20260331T190000Z
DTSTAMP:20260425T163828Z
UID:12869802026-03-31 18:00:00+00:00achurchnearyou
CATEGORIES:
DESCRIPTION:Reflections with Lesley at 7pm - a beautiful quiet time for re
 flection and prayer.
GEO:-0.702055;52.356394
LOCATION:St Peter
URL:https://www.achurchnearyou.com/church/16640/service-and-events/events/
 1286980/
END:VEVENT
END:VCALENDAR
