BEGIN:VCALENDAR
VERSION:2.0
PRODID:-//achurchnearyou.com//eventfeed//EN
CALSCALE:GREGORIAN
METHOD:PUBLISH
X-WR-TIMEZONE:UTC
BEGIN:VEVENT
SUMMARY:Holy Communion 3rd May 2026 at 10.00am
DTSTART;TZID=Europe/London:20260503T100000
DTEND;TZID=Europe/London:20260503T104500
DTSTAMP:20260422T010457Z
UID:12834791777798800.0achurchnearyou
CATEGORIES:
DESCRIPTION:10am Holy Communion service at St Margaret's\, Luddington in t
 he Brook
GEO:-0.378594;52.439829
LOCATION:St Margaret's Church\, Luddington in the Brook
URL:https://www.achurchnearyou.com/church/16678/service-and-events/events/
 1283479/
END:VEVENT
BEGIN:VEVENT
SUMMARY:Holy Communion 7th June 2026 at 10.00am
DTSTART;TZID=Europe/London:20260607T100000
DTEND;TZID=Europe/London:20260607T104500
DTSTAMP:20260422T010457Z
UID:12834881780822800.0achurchnearyou
CATEGORIES:
DESCRIPTION:10am Holy Communion service at St Margaret's\, Luddington in t
 he Brook.
GEO:-0.378594;52.439829
LOCATION:St Margaret's Church\, Luddington in the Brook
URL:https://www.achurchnearyou.com/church/16678/service-and-events/events/
 1283488/
END:VEVENT
BEGIN:VEVENT
SUMMARY:Holy Communion 5th July 2026 at 10.00am
DTSTART;TZID=Europe/London:20260705T100000
DTEND;TZID=Europe/London:20260705T104500
DTSTAMP:20260422T010457Z
UID:12834931783242000.0achurchnearyou
CATEGORIES:
DESCRIPTION:10am Holy Communion service at St Margaret's\, Luddington in t
 he Brook.
GEO:-0.378594;52.439829
LOCATION:St Margaret's Church\, Luddington in the Brook
URL:https://www.achurchnearyou.com/church/16678/service-and-events/events/
 1283493/
END:VEVENT
BEGIN:VEVENT
SUMMARY:Benefice Service 30th August 2026 - Thurning church at 11.00am & l
 unch
DTSTART;TZID=Europe/London:20260830T110000
DTEND;TZID=Europe/London:20260830T133000
DTSTAMP:20260422T010457Z
UID:12502011788084000.0achurchnearyou
CATEGORIES:
DESCRIPTION:Join us for our fifth-Sunday Benefice service at Thurning chur
 ch. Service starts at 11.00am with a bring and share lunch to follow. Plea
 se contact Sarah (churchwarden) for more details.
LOCATION:St James' church Thurning
URL:https://www.achurchnearyou.com/church/16678/service-and-events/events/
 1250201/
END:VEVENT
END:VCALENDAR
