BEGIN:VCALENDAR
VERSION:2.0
PRODID:-//achurchnearyou.com//eventfeed//EN
CALSCALE:GREGORIAN
METHOD:PUBLISH
X-WR-TIMEZONE:UTC
BEGIN:VEVENT
SUMMARY:Palm Sunday Eucharist
DTSTART:20250413T093000Z
DTEND:20250413T103000Z
DTSTAMP:20260420T213833Z
UID:11831012025-04-13 09:30:00+00:00achurchnearyou
CATEGORIES:
DESCRIPTION:Holy Communion with Blessing of the Palms
GEO:-0.28353;52.58932
LOCATION:Church of the  Holy Spirit
URL:https://www.achurchnearyou.com/church/16694/service-and-events/events/
 1183101/
END:VEVENT
END:VCALENDAR
