BEGIN:VCALENDAR
VERSION:2.0
PRODID:-//achurchnearyou.com//eventfeed//EN
CALSCALE:GREGORIAN
METHOD:PUBLISH
X-WR-TIMEZONE:UTC
BEGIN:VEVENT
SUMMARY:Easter Sunday Eucharist
DTSTART:20250420T093000Z
DTEND:20250420T103000Z
DTSTAMP:20260420T213701Z
UID:11831082025-04-20 09:30:00+00:00achurchnearyou
CATEGORIES:
DESCRIPTION:Holy Communion on the Day of The Resurrection
GEO:-0.28353;52.58932
LOCATION:Church of the  Holy Spirit
URL:https://www.achurchnearyou.com/church/16694/service-and-events/events/
 1183108/
END:VEVENT
END:VCALENDAR
