BEGIN:VCALENDAR
VERSION:2.0
PRODID:-//achurchnearyou.com//eventfeed//EN
CALSCALE:GREGORIAN
METHOD:PUBLISH
X-WR-TIMEZONE:UTC
BEGIN:VEVENT
SUMMARY:Morning service
DTSTART;TZID=Europe/London:20260412T111500
DTEND;TZID=Europe/London:20260412T121500
DTSTAMP:20260420T001442Z
UID:2537241775988900.0achurchnearyou
CATEGORIES:
DESCRIPTION:A formal service with the organ to accompany hymns and a sermo
 n.\nTemporarily suspended until the current restrictions have been lifted.
GEO:-0.640022;52.690257
LOCATION:Exton - St Peter & St Paul
URL:https://www.achurchnearyou.com/church/16711/service-and-events/events/
 253724/
END:VEVENT
BEGIN:VEVENT
SUMMARY:Brick Café Church
DTSTART;TZID=Europe/London:20260419T113000
DTEND;TZID=Europe/London:20260419T123000
DTSTAMP:20260420T001442Z
UID:9207351776594600.0achurchnearyou
CATEGORIES:
DESCRIPTION:A relaxed service for all aged people\, including and speciall
 y designed for children. There will be Bible stories\, activities\,  inter
 esting videos\, songs and a chance to sing!
LOCATION:Cottesmore Church
URL:https://www.achurchnearyou.com/church/16711/service-and-events/events/
 920735/
END:VEVENT
BEGIN:VEVENT
SUMMARY:Holy Communion
DTSTART;TZID=Europe/London:20260426T111500
DTEND;TZID=Europe/London:20260426T120500
DTSTAMP:20260420T001442Z
UID:336521777198500.0achurchnearyou
CATEGORIES:
DESCRIPTION:A communion service with organ accompanying hymns and a sermon
 .\nTemporarily suspended until the current restrictions have been lifted.
GEO:-0.640022;52.690257
LOCATION:Exton - St Peter & St Paul
URL:https://www.achurchnearyou.com/church/16711/service-and-events/events/
 33652/
END:VEVENT
BEGIN:VEVENT
SUMMARY:Morning service
DTSTART;TZID=Europe/London:20260510T111500
DTEND;TZID=Europe/London:20260510T121500
DTSTAMP:20260420T001442Z
UID:2537241778408100.0achurchnearyou
CATEGORIES:
DESCRIPTION:A formal service with the organ to accompany hymns and a sermo
 n.\nTemporarily suspended until the current restrictions have been lifted.
GEO:-0.640022;52.690257
LOCATION:Exton - St Peter & St Paul
URL:https://www.achurchnearyou.com/church/16711/service-and-events/events/
 253724/
END:VEVENT
BEGIN:VEVENT
SUMMARY:Brick Café Church
DTSTART;TZID=Europe/London:20260517T113000
DTEND;TZID=Europe/London:20260517T123000
DTSTAMP:20260420T001442Z
UID:9207351779013800.0achurchnearyou
CATEGORIES:
DESCRIPTION:A relaxed service for all aged people\, including and speciall
 y designed for children. There will be Bible stories\, activities\,  inter
 esting videos\, songs and a chance to sing!
LOCATION:Cottesmore Church
URL:https://www.achurchnearyou.com/church/16711/service-and-events/events/
 920735/
END:VEVENT
BEGIN:VEVENT
SUMMARY:Holy Communion
DTSTART;TZID=Europe/London:20260524T111500
DTEND;TZID=Europe/London:20260524T120500
DTSTAMP:20260420T001442Z
UID:336521779617700.0achurchnearyou
CATEGORIES:
DESCRIPTION:A communion service with organ accompanying hymns and a sermon
 .\nTemporarily suspended until the current restrictions have been lifted.
GEO:-0.640022;52.690257
LOCATION:Exton - St Peter & St Paul
URL:https://www.achurchnearyou.com/church/16711/service-and-events/events/
 33652/
END:VEVENT
BEGIN:VEVENT
SUMMARY:Morning service
DTSTART;TZID=Europe/London:20260614T111500
DTEND;TZID=Europe/London:20260614T121500
DTSTAMP:20260420T001442Z
UID:2537241781432100.0achurchnearyou
CATEGORIES:
DESCRIPTION:A formal service with the organ to accompany hymns and a sermo
 n.\nTemporarily suspended until the current restrictions have been lifted.
GEO:-0.640022;52.690257
LOCATION:Exton - St Peter & St Paul
URL:https://www.achurchnearyou.com/church/16711/service-and-events/events/
 253724/
END:VEVENT
BEGIN:VEVENT
SUMMARY:Brick Café Church
DTSTART;TZID=Europe/London:20260621T113000
DTEND;TZID=Europe/London:20260621T123000
DTSTAMP:20260420T001442Z
UID:9207351782037800.0achurchnearyou
CATEGORIES:
DESCRIPTION:A relaxed service for all aged people\, including and speciall
 y designed for children. There will be Bible stories\, activities\,  inter
 esting videos\, songs and a chance to sing!
LOCATION:Cottesmore Church
URL:https://www.achurchnearyou.com/church/16711/service-and-events/events/
 920735/
END:VEVENT
BEGIN:VEVENT
SUMMARY:Holy Communion
DTSTART;TZID=Europe/London:20260628T111500
DTEND;TZID=Europe/London:20260628T120500
DTSTAMP:20260420T001442Z
UID:336521782641700.0achurchnearyou
CATEGORIES:
DESCRIPTION:A communion service with organ accompanying hymns and a sermon
 .\nTemporarily suspended until the current restrictions have been lifted.
GEO:-0.640022;52.690257
LOCATION:Exton - St Peter & St Paul
URL:https://www.achurchnearyou.com/church/16711/service-and-events/events/
 33652/
END:VEVENT
BEGIN:VEVENT
SUMMARY:Morning service
DTSTART;TZID=Europe/London:20260712T111500
DTEND;TZID=Europe/London:20260712T121500
DTSTAMP:20260420T001442Z
UID:2537241783851300.0achurchnearyou
CATEGORIES:
DESCRIPTION:A formal service with the organ to accompany hymns and a sermo
 n.\nTemporarily suspended until the current restrictions have been lifted.
GEO:-0.640022;52.690257
LOCATION:Exton - St Peter & St Paul
URL:https://www.achurchnearyou.com/church/16711/service-and-events/events/
 253724/
END:VEVENT
BEGIN:VEVENT
SUMMARY:Brick Café Church
DTSTART;TZID=Europe/London:20260719T113000
DTEND;TZID=Europe/London:20260719T123000
DTSTAMP:20260420T001442Z
UID:9207351784457000.0achurchnearyou
CATEGORIES:
DESCRIPTION:A relaxed service for all aged people\, including and speciall
 y designed for children. There will be Bible stories\, activities\,  inter
 esting videos\, songs and a chance to sing!
LOCATION:Cottesmore Church
URL:https://www.achurchnearyou.com/church/16711/service-and-events/events/
 920735/
END:VEVENT
BEGIN:VEVENT
SUMMARY:Holy Communion
DTSTART;TZID=Europe/London:20260726T111500
DTEND;TZID=Europe/London:20260726T120500
DTSTAMP:20260420T001442Z
UID:336521785060900.0achurchnearyou
CATEGORIES:
DESCRIPTION:A communion service with organ accompanying hymns and a sermon
 .\nTemporarily suspended until the current restrictions have been lifted.
GEO:-0.640022;52.690257
LOCATION:Exton - St Peter & St Paul
URL:https://www.achurchnearyou.com/church/16711/service-and-events/events/
 33652/
END:VEVENT
BEGIN:VEVENT
SUMMARY:Morning service
DTSTART;TZID=Europe/London:20260809T111500
DTEND;TZID=Europe/London:20260809T121500
DTSTAMP:20260420T001442Z
UID:2537241786270500.0achurchnearyou
CATEGORIES:
DESCRIPTION:A formal service with the organ to accompany hymns and a sermo
 n.\nTemporarily suspended until the current restrictions have been lifted.
GEO:-0.640022;52.690257
LOCATION:Exton - St Peter & St Paul
URL:https://www.achurchnearyou.com/church/16711/service-and-events/events/
 253724/
END:VEVENT
BEGIN:VEVENT
SUMMARY:Brick Café Church
DTSTART;TZID=Europe/London:20260816T113000
DTEND;TZID=Europe/London:20260816T123000
DTSTAMP:20260420T001442Z
UID:9207351786876200.0achurchnearyou
CATEGORIES:
DESCRIPTION:A relaxed service for all aged people\, including and speciall
 y designed for children. There will be Bible stories\, activities\,  inter
 esting videos\, songs and a chance to sing!
LOCATION:Cottesmore Church
URL:https://www.achurchnearyou.com/church/16711/service-and-events/events/
 920735/
END:VEVENT
BEGIN:VEVENT
SUMMARY:Holy Communion
DTSTART;TZID=Europe/London:20260823T111500
DTEND;TZID=Europe/London:20260823T120500
DTSTAMP:20260420T001442Z
UID:336521787480100.0achurchnearyou
CATEGORIES:
DESCRIPTION:A communion service with organ accompanying hymns and a sermon
 .\nTemporarily suspended until the current restrictions have been lifted.
GEO:-0.640022;52.690257
LOCATION:Exton - St Peter & St Paul
URL:https://www.achurchnearyou.com/church/16711/service-and-events/events/
 33652/
END:VEVENT
BEGIN:VEVENT
SUMMARY:Morning service
DTSTART;TZID=Europe/London:20260913T111500
DTEND;TZID=Europe/London:20260913T121500
DTSTAMP:20260420T001442Z
UID:2537241789294500.0achurchnearyou
CATEGORIES:
DESCRIPTION:A formal service with the organ to accompany hymns and a sermo
 n.\nTemporarily suspended until the current restrictions have been lifted.
GEO:-0.640022;52.690257
LOCATION:Exton - St Peter & St Paul
URL:https://www.achurchnearyou.com/church/16711/service-and-events/events/
 253724/
END:VEVENT
BEGIN:VEVENT
SUMMARY:Brick Café Church
DTSTART;TZID=Europe/London:20260920T113000
DTEND;TZID=Europe/London:20260920T123000
DTSTAMP:20260420T001442Z
UID:9207351789900200.0achurchnearyou
CATEGORIES:
DESCRIPTION:A relaxed service for all aged people\, including and speciall
 y designed for children. There will be Bible stories\, activities\,  inter
 esting videos\, songs and a chance to sing!
LOCATION:Cottesmore Church
URL:https://www.achurchnearyou.com/church/16711/service-and-events/events/
 920735/
END:VEVENT
BEGIN:VEVENT
SUMMARY:Holy Communion
DTSTART;TZID=Europe/London:20260927T111500
DTEND;TZID=Europe/London:20260927T120500
DTSTAMP:20260420T001442Z
UID:336521790504100.0achurchnearyou
CATEGORIES:
DESCRIPTION:A communion service with organ accompanying hymns and a sermon
 .\nTemporarily suspended until the current restrictions have been lifted.
GEO:-0.640022;52.690257
LOCATION:Exton - St Peter & St Paul
URL:https://www.achurchnearyou.com/church/16711/service-and-events/events/
 33652/
END:VEVENT
END:VCALENDAR
