BEGIN:VCALENDAR
VERSION:2.0
PRODID:-//achurchnearyou.com//eventfeed//EN
CALSCALE:GREGORIAN
METHOD:PUBLISH
X-WR-TIMEZONE:UTC
BEGIN:VEVENT
SUMMARY:Maundy Service
DTSTART:20260402T173000Z
DTEND:20260402T183000Z
DTSTAMP:20260420T014959Z
UID:13056992026-04-02 17:30:00+00:00achurchnearyou
CATEGORIES:
DESCRIPTION:Maundy is an annual event where Christians remember the Last S
 upper\, when Jesus celebrated the Passover meal with his disciples before 
 being betrayed and arrested.\n\nCome and remember the Last Supper with us 
 at CoGS where will have communion as well as perform a traditional hand/fo
 ot washing.\n\nThis year our Maundy Service will be led by Rev\, Janette S
 mith.
GEO:-1.028706;50.860043
LOCATION:Church of the Good Shepherd (CoGS)
URL:https://cogs.churchsuite.com/events/odhgqkbl
END:VEVENT
END:VCALENDAR
