BEGIN:VCALENDAR
VERSION:2.0
PRODID:-//achurchnearyou.com//eventfeed//EN
CALSCALE:GREGORIAN
METHOD:PUBLISH
X-WR-TIMEZONE:UTC
BEGIN:VEVENT
SUMMARY:South Hampshire New Wine Network Celebration
DTSTART;TZID=Europe/London:20260503T183000
DTEND;TZID=Europe/London:20260503T193000
DTSTAMP:20260419T220651Z
UID:665072026-05-03 18:30:00+01:00achurchnearyou
CATEGORIES:
DESCRIPTION:This service is run by South Hants New Wine Network\, with reg
 ular attenders from many different churches.\nA time for Worship\, teachin
 g and ministry\; held termly on the first Sunday of the month.\nSung worsh
 ip starts at 6:30pm followed by teaching and time for ministry (to finish 
 around 7:45pm)
GEO:-1.028706;50.860043
LOCATION:Church of the Good Shepherd (CoGS)
URL:http://www.cogs.org.uk/portsmouth-new-wine-network-celebration
END:VEVENT
BEGIN:VEVENT
SUMMARY:South Hampshire New Wine Network Celebration
DTSTART;TZID=Europe/London:20261004T183000
DTEND;TZID=Europe/London:20261004T193000
DTSTAMP:20260419T220651Z
UID:665072026-10-04 18:30:00+01:00achurchnearyou
CATEGORIES:
DESCRIPTION:This service is run by South Hants New Wine Network\, with reg
 ular attenders from many different churches.\nA time for Worship\, teachin
 g and ministry\; held termly on the first Sunday of the month.\nSung worsh
 ip starts at 6:30pm followed by teaching and time for ministry (to finish 
 around 7:45pm)
GEO:-1.028706;50.860043
LOCATION:Church of the Good Shepherd (CoGS)
URL:http://www.cogs.org.uk/portsmouth-new-wine-network-celebration
END:VEVENT
BEGIN:VEVENT
SUMMARY:South Hampshire New Wine Network Celebration
DTSTART;TZID=Europe/London:20270207T183000
DTEND;TZID=Europe/London:20270207T193000
DTSTAMP:20260419T220651Z
UID:665072027-02-07 18:30:00+00:00achurchnearyou
CATEGORIES:
DESCRIPTION:This service is run by South Hants New Wine Network\, with reg
 ular attenders from many different churches.\nA time for Worship\, teachin
 g and ministry\; held termly on the first Sunday of the month.\nSung worsh
 ip starts at 6:30pm followed by teaching and time for ministry (to finish 
 around 7:45pm)
GEO:-1.028706;50.860043
LOCATION:Church of the Good Shepherd (CoGS)
URL:http://www.cogs.org.uk/portsmouth-new-wine-network-celebration
END:VEVENT
END:VCALENDAR
