BEGIN:VCALENDAR
VERSION:2.0
PRODID:-//achurchnearyou.com//eventfeed//EN
CALSCALE:GREGORIAN
METHOD:PUBLISH
X-WR-TIMEZONE:UTC
BEGIN:VEVENT
SUMMARY:Crib Service
DTSTART:20251224T140000Z
DTEND:20251224T144000Z
DTSTAMP:20260424T005405Z
UID:5436802025-12-24 14:00:00+00:00achurchnearyou
CATEGORIES:
DESCRIPTION:A simple retelling of the nativity story - suitable for all ag
 es.
GEO:-1.027269;50.84782
LOCATION:St Andrew
URL:https://www.achurchnearyou.com/church/16750/service-and-events/events/
 543680/
END:VEVENT
END:VCALENDAR
