BEGIN:VCALENDAR
VERSION:2.0
PRODID:-//achurchnearyou.com//eventfeed//EN
CALSCALE:GREGORIAN
METHOD:PUBLISH
X-WR-TIMEZONE:UTC
BEGIN:VEVENT
SUMMARY:Family Christmas Service
DTSTART:20251225T103000Z
DTEND:20251225T114500Z
DTSTAMP:20260424T060228Z
UID:12668272025-12-25 10:30:00+00:00achurchnearyou
CATEGORIES:
DESCRIPTION:followed by a quiet Communion
GEO:-1.078763;50.782443
LOCATION:St Simon's\, Southsea
URL:https://www.achurchnearyou.com/church/16769/service-and-events/events/
 1266827/
END:VEVENT
END:VCALENDAR
