BEGIN:VCALENDAR
VERSION:2.0
PRODID:-//achurchnearyou.com//eventfeed//EN
CALSCALE:GREGORIAN
METHOD:PUBLISH
X-WR-TIMEZONE:UTC
BEGIN:VEVENT
SUMMARY:Palm sunday procession & service
DTSTART:20250413T084500Z
DTEND:20250413T100000Z
DTSTAMP:20260419T223728Z
UID:11628442025-04-13 08:45:00+00:00achurchnearyou
CATEGORIES:
DESCRIPTION:Join with us as we celebrate Palm Sunday with a procession fro
 m the Wight Mouse car park in Chale into St. Andrew's Chale
LOCATION:St. Andrew's Chale
URL:https://www.achurchnearyou.com/church/16783/service-and-events/events/
 1162844/
END:VEVENT
END:VCALENDAR
