BEGIN:VCALENDAR
VERSION:2.0
PRODID:-//achurchnearyou.com//eventfeed//EN
CALSCALE:GREGORIAN
METHOD:PUBLISH
X-WR-TIMEZONE:UTC
BEGIN:VEVENT
SUMMARY:Good Friday Walk of witness
DTSTART:20250418T123000Z
DTEND:20250418T150000Z
DTSTAMP:20260419T223650Z
UID:11628482025-04-18 12:30:00+00:00achurchnearyou
CATEGORIES:
DESCRIPTION:Join with us as we start with a picnic in St. John the Baptist
 \, Niton and walk to Whitwell parish church for our service
LOCATION:St. John the Baptist - Niton & Whitwell Parish Church
URL:https://www.achurchnearyou.com/church/16783/service-and-events/events/
 1162848/
END:VEVENT
END:VCALENDAR
