BEGIN:VCALENDAR
VERSION:2.0
PRODID:-//achurchnearyou.com//eventfeed//EN
CALSCALE:GREGORIAN
METHOD:PUBLISH
X-WR-TIMEZONE:UTC
BEGIN:VEVENT
SUMMARY:Easter Vigil
DTSTART:20250419T170000Z
DTEND:20250419T180000Z
DTSTAMP:20260419T223601Z
UID:11628492025-04-19 17:00:00+00:00achurchnearyou
CATEGORIES:
DESCRIPTION:A time to pause and reflect together
LOCATION:St. Andrew's Chale
URL:https://www.achurchnearyou.com/church/16783/service-and-events/events/
 1162849/
END:VEVENT
END:VCALENDAR
