BEGIN:VCALENDAR
VERSION:2.0
PRODID:-//achurchnearyou.com//eventfeed//EN
CALSCALE:GREGORIAN
METHOD:PUBLISH
X-WR-TIMEZONE:UTC
BEGIN:VEVENT
SUMMARY:Holy Communion  - BCP
DTSTART;TZID=Europe/London:20251102T080000
DTEND;TZID=Europe/London:20251102T090000
DTSTAMP:20260425T213351Z
UID:12562122025-11-02 08:00:00+00:00achurchnearyou
CATEGORIES:
DESCRIPTION:BCP Service
GEO:-1.450856;51.400116
LOCATION:St Mary Kintbury with Avington & Hamstead Marshall
URL:https://www.achurchnearyou.com/church/168/service-and-events/events/12
 56212/
END:VEVENT
BEGIN:VEVENT
SUMMARY:Holy Communion  - BCP
DTSTART;TZID=Europe/London:20251207T080000
DTEND;TZID=Europe/London:20251207T090000
DTSTAMP:20260425T213351Z
UID:12562122025-12-07 08:00:00+00:00achurchnearyou
CATEGORIES:
DESCRIPTION:BCP Service
GEO:-1.450856;51.400116
LOCATION:St Mary Kintbury with Avington & Hamstead Marshall
URL:https://www.achurchnearyou.com/church/168/service-and-events/events/12
 56212/
END:VEVENT
BEGIN:VEVENT
SUMMARY:Holy Communion  - BCP
DTSTART;TZID=Europe/London:20260104T080000
DTEND;TZID=Europe/London:20260104T090000
DTSTAMP:20260425T213351Z
UID:12562122026-01-04 08:00:00+00:00achurchnearyou
CATEGORIES:
DESCRIPTION:BCP Service
GEO:-1.450856;51.400116
LOCATION:St Mary Kintbury with Avington & Hamstead Marshall
URL:https://www.achurchnearyou.com/church/168/service-and-events/events/12
 56212/
END:VEVENT
BEGIN:VEVENT
SUMMARY:Holy Communion  - BCP
DTSTART;TZID=Europe/London:20260201T080000
DTEND;TZID=Europe/London:20260201T090000
DTSTAMP:20260425T213351Z
UID:12562122026-02-01 08:00:00+00:00achurchnearyou
CATEGORIES:
DESCRIPTION:BCP Service
GEO:-1.450856;51.400116
LOCATION:St Mary Kintbury with Avington & Hamstead Marshall
URL:https://www.achurchnearyou.com/church/168/service-and-events/events/12
 56212/
END:VEVENT
BEGIN:VEVENT
SUMMARY:Holy Communion  - BCP
DTSTART;TZID=Europe/London:20260301T080000
DTEND;TZID=Europe/London:20260301T090000
DTSTAMP:20260425T213351Z
UID:12562122026-03-01 08:00:00+00:00achurchnearyou
CATEGORIES:
DESCRIPTION:BCP Service
GEO:-1.450856;51.400116
LOCATION:St Mary Kintbury with Avington & Hamstead Marshall
URL:https://www.achurchnearyou.com/church/168/service-and-events/events/12
 56212/
END:VEVENT
BEGIN:VEVENT
SUMMARY:Holy Communion  - BCP
DTSTART;TZID=Europe/London:20260405T080000
DTEND;TZID=Europe/London:20260405T090000
DTSTAMP:20260425T213351Z
UID:12562122026-04-05 08:00:00+01:00achurchnearyou
CATEGORIES:
DESCRIPTION:BCP Service
GEO:-1.450856;51.400116
LOCATION:St Mary Kintbury with Avington & Hamstead Marshall
URL:https://www.achurchnearyou.com/church/168/service-and-events/events/12
 56212/
END:VEVENT
BEGIN:VEVENT
SUMMARY:Holy Communion  - BCP
DTSTART;TZID=Europe/London:20260503T080000
DTEND;TZID=Europe/London:20260503T090000
DTSTAMP:20260425T213351Z
UID:12562122026-05-03 08:00:00+01:00achurchnearyou
CATEGORIES:
DESCRIPTION:BCP Service
GEO:-1.450856;51.400116
LOCATION:St Mary Kintbury with Avington & Hamstead Marshall
URL:https://www.achurchnearyou.com/church/168/service-and-events/events/12
 56212/
END:VEVENT
BEGIN:VEVENT
SUMMARY:Holy Communion  - BCP
DTSTART;TZID=Europe/London:20260607T080000
DTEND;TZID=Europe/London:20260607T090000
DTSTAMP:20260425T213351Z
UID:12562122026-06-07 08:00:00+01:00achurchnearyou
CATEGORIES:
DESCRIPTION:BCP Service
GEO:-1.450856;51.400116
LOCATION:St Mary Kintbury with Avington & Hamstead Marshall
URL:https://www.achurchnearyou.com/church/168/service-and-events/events/12
 56212/
END:VEVENT
BEGIN:VEVENT
SUMMARY:Holy Communion  - BCP
DTSTART;TZID=Europe/London:20260705T080000
DTEND;TZID=Europe/London:20260705T090000
DTSTAMP:20260425T213351Z
UID:12562122026-07-05 08:00:00+01:00achurchnearyou
CATEGORIES:
DESCRIPTION:BCP Service
GEO:-1.450856;51.400116
LOCATION:St Mary Kintbury with Avington & Hamstead Marshall
URL:https://www.achurchnearyou.com/church/168/service-and-events/events/12
 56212/
END:VEVENT
BEGIN:VEVENT
SUMMARY:Holy Communion  - BCP
DTSTART;TZID=Europe/London:20260802T080000
DTEND;TZID=Europe/London:20260802T090000
DTSTAMP:20260425T213351Z
UID:12562122026-08-02 08:00:00+01:00achurchnearyou
CATEGORIES:
DESCRIPTION:BCP Service
GEO:-1.450856;51.400116
LOCATION:St Mary Kintbury with Avington & Hamstead Marshall
URL:https://www.achurchnearyou.com/church/168/service-and-events/events/12
 56212/
END:VEVENT
BEGIN:VEVENT
SUMMARY:Holy Communion  - BCP
DTSTART;TZID=Europe/London:20260906T080000
DTEND;TZID=Europe/London:20260906T090000
DTSTAMP:20260425T213351Z
UID:12562122026-09-06 08:00:00+01:00achurchnearyou
CATEGORIES:
DESCRIPTION:BCP Service
GEO:-1.450856;51.400116
LOCATION:St Mary Kintbury with Avington & Hamstead Marshall
URL:https://www.achurchnearyou.com/church/168/service-and-events/events/12
 56212/
END:VEVENT
BEGIN:VEVENT
SUMMARY:Holy Communion  - BCP
DTSTART;TZID=Europe/London:20261004T080000
DTEND;TZID=Europe/London:20261004T090000
DTSTAMP:20260425T213351Z
UID:12562122026-10-04 08:00:00+01:00achurchnearyou
CATEGORIES:
DESCRIPTION:BCP Service
GEO:-1.450856;51.400116
LOCATION:St Mary Kintbury with Avington & Hamstead Marshall
URL:https://www.achurchnearyou.com/church/168/service-and-events/events/12
 56212/
END:VEVENT
BEGIN:VEVENT
SUMMARY:Holy Communion  - BCP
DTSTART;TZID=Europe/London:20261101T080000
DTEND;TZID=Europe/London:20261101T090000
DTSTAMP:20260425T213351Z
UID:12562122026-11-01 08:00:00+00:00achurchnearyou
CATEGORIES:
DESCRIPTION:BCP Service
GEO:-1.450856;51.400116
LOCATION:St Mary Kintbury with Avington & Hamstead Marshall
URL:https://www.achurchnearyou.com/church/168/service-and-events/events/12
 56212/
END:VEVENT
BEGIN:VEVENT
SUMMARY:Holy Communion  - BCP
DTSTART;TZID=Europe/London:20261206T080000
DTEND;TZID=Europe/London:20261206T090000
DTSTAMP:20260425T213351Z
UID:12562122026-12-06 08:00:00+00:00achurchnearyou
CATEGORIES:
DESCRIPTION:BCP Service
GEO:-1.450856;51.400116
LOCATION:St Mary Kintbury with Avington & Hamstead Marshall
URL:https://www.achurchnearyou.com/church/168/service-and-events/events/12
 56212/
END:VEVENT
BEGIN:VEVENT
SUMMARY:Holy Communion  - BCP
DTSTART;TZID=Europe/London:20270103T080000
DTEND;TZID=Europe/London:20270103T090000
DTSTAMP:20260425T213351Z
UID:12562122027-01-03 08:00:00+00:00achurchnearyou
CATEGORIES:
DESCRIPTION:BCP Service
GEO:-1.450856;51.400116
LOCATION:St Mary Kintbury with Avington & Hamstead Marshall
URL:https://www.achurchnearyou.com/church/168/service-and-events/events/12
 56212/
END:VEVENT
BEGIN:VEVENT
SUMMARY:Holy Communion  - BCP
DTSTART;TZID=Europe/London:20270207T080000
DTEND;TZID=Europe/London:20270207T090000
DTSTAMP:20260425T213351Z
UID:12562122027-02-07 08:00:00+00:00achurchnearyou
CATEGORIES:
DESCRIPTION:BCP Service
GEO:-1.450856;51.400116
LOCATION:St Mary Kintbury with Avington & Hamstead Marshall
URL:https://www.achurchnearyou.com/church/168/service-and-events/events/12
 56212/
END:VEVENT
BEGIN:VEVENT
SUMMARY:Holy Communion  - BCP
DTSTART;TZID=Europe/London:20270307T080000
DTEND;TZID=Europe/London:20270307T090000
DTSTAMP:20260425T213351Z
UID:12562122027-03-07 08:00:00+00:00achurchnearyou
CATEGORIES:
DESCRIPTION:BCP Service
GEO:-1.450856;51.400116
LOCATION:St Mary Kintbury with Avington & Hamstead Marshall
URL:https://www.achurchnearyou.com/church/168/service-and-events/events/12
 56212/
END:VEVENT
BEGIN:VEVENT
SUMMARY:Holy Communion  - BCP
DTSTART;TZID=Europe/London:20270404T080000
DTEND;TZID=Europe/London:20270404T090000
DTSTAMP:20260425T213351Z
UID:12562122027-04-04 08:00:00+01:00achurchnearyou
CATEGORIES:
DESCRIPTION:BCP Service
GEO:-1.450856;51.400116
LOCATION:St Mary Kintbury with Avington & Hamstead Marshall
URL:https://www.achurchnearyou.com/church/168/service-and-events/events/12
 56212/
END:VEVENT
BEGIN:VEVENT
SUMMARY:Holy Communion  - BCP
DTSTART;TZID=Europe/London:20270502T080000
DTEND;TZID=Europe/London:20270502T090000
DTSTAMP:20260425T213351Z
UID:12562122027-05-02 08:00:00+01:00achurchnearyou
CATEGORIES:
DESCRIPTION:BCP Service
GEO:-1.450856;51.400116
LOCATION:St Mary Kintbury with Avington & Hamstead Marshall
URL:https://www.achurchnearyou.com/church/168/service-and-events/events/12
 56212/
END:VEVENT
BEGIN:VEVENT
SUMMARY:Holy Communion  - BCP
DTSTART;TZID=Europe/London:20270606T080000
DTEND;TZID=Europe/London:20270606T090000
DTSTAMP:20260425T213351Z
UID:12562122027-06-06 08:00:00+01:00achurchnearyou
CATEGORIES:
DESCRIPTION:BCP Service
GEO:-1.450856;51.400116
LOCATION:St Mary Kintbury with Avington & Hamstead Marshall
URL:https://www.achurchnearyou.com/church/168/service-and-events/events/12
 56212/
END:VEVENT
BEGIN:VEVENT
SUMMARY:Holy Communion  - BCP
DTSTART;TZID=Europe/London:20270704T080000
DTEND;TZID=Europe/London:20270704T090000
DTSTAMP:20260425T213351Z
UID:12562122027-07-04 08:00:00+01:00achurchnearyou
CATEGORIES:
DESCRIPTION:BCP Service
GEO:-1.450856;51.400116
LOCATION:St Mary Kintbury with Avington & Hamstead Marshall
URL:https://www.achurchnearyou.com/church/168/service-and-events/events/12
 56212/
END:VEVENT
BEGIN:VEVENT
SUMMARY:Holy Communion  - BCP
DTSTART;TZID=Europe/London:20270801T080000
DTEND;TZID=Europe/London:20270801T090000
DTSTAMP:20260425T213351Z
UID:12562122027-08-01 08:00:00+01:00achurchnearyou
CATEGORIES:
DESCRIPTION:BCP Service
GEO:-1.450856;51.400116
LOCATION:St Mary Kintbury with Avington & Hamstead Marshall
URL:https://www.achurchnearyou.com/church/168/service-and-events/events/12
 56212/
END:VEVENT
BEGIN:VEVENT
SUMMARY:Holy Communion  - BCP
DTSTART;TZID=Europe/London:20270905T080000
DTEND;TZID=Europe/London:20270905T090000
DTSTAMP:20260425T213351Z
UID:12562122027-09-05 08:00:00+01:00achurchnearyou
CATEGORIES:
DESCRIPTION:BCP Service
GEO:-1.450856;51.400116
LOCATION:St Mary Kintbury with Avington & Hamstead Marshall
URL:https://www.achurchnearyou.com/church/168/service-and-events/events/12
 56212/
END:VEVENT
BEGIN:VEVENT
SUMMARY:Holy Communion  - BCP
DTSTART;TZID=Europe/London:20271003T080000
DTEND;TZID=Europe/London:20271003T090000
DTSTAMP:20260425T213351Z
UID:12562122027-10-03 08:00:00+01:00achurchnearyou
CATEGORIES:
DESCRIPTION:BCP Service
GEO:-1.450856;51.400116
LOCATION:St Mary Kintbury with Avington & Hamstead Marshall
URL:https://www.achurchnearyou.com/church/168/service-and-events/events/12
 56212/
END:VEVENT
BEGIN:VEVENT
SUMMARY:Holy Communion  - BCP
DTSTART;TZID=Europe/London:20271107T080000
DTEND;TZID=Europe/London:20271107T090000
DTSTAMP:20260425T213351Z
UID:12562122027-11-07 08:00:00+00:00achurchnearyou
CATEGORIES:
DESCRIPTION:BCP Service
GEO:-1.450856;51.400116
LOCATION:St Mary Kintbury with Avington & Hamstead Marshall
URL:https://www.achurchnearyou.com/church/168/service-and-events/events/12
 56212/
END:VEVENT
BEGIN:VEVENT
SUMMARY:Holy Communion  - BCP
DTSTART;TZID=Europe/London:20271205T080000
DTEND;TZID=Europe/London:20271205T090000
DTSTAMP:20260425T213351Z
UID:12562122027-12-05 08:00:00+00:00achurchnearyou
CATEGORIES:
DESCRIPTION:BCP Service
GEO:-1.450856;51.400116
LOCATION:St Mary Kintbury with Avington & Hamstead Marshall
URL:https://www.achurchnearyou.com/church/168/service-and-events/events/12
 56212/
END:VEVENT
BEGIN:VEVENT
SUMMARY:Holy Communion  - BCP
DTSTART;TZID=Europe/London:20280102T080000
DTEND;TZID=Europe/London:20280102T090000
DTSTAMP:20260425T213351Z
UID:12562122028-01-02 08:00:00+00:00achurchnearyou
CATEGORIES:
DESCRIPTION:BCP Service
GEO:-1.450856;51.400116
LOCATION:St Mary Kintbury with Avington & Hamstead Marshall
URL:https://www.achurchnearyou.com/church/168/service-and-events/events/12
 56212/
END:VEVENT
BEGIN:VEVENT
SUMMARY:Holy Communion  - BCP
DTSTART;TZID=Europe/London:20280206T080000
DTEND;TZID=Europe/London:20280206T090000
DTSTAMP:20260425T213351Z
UID:12562122028-02-06 08:00:00+00:00achurchnearyou
CATEGORIES:
DESCRIPTION:BCP Service
GEO:-1.450856;51.400116
LOCATION:St Mary Kintbury with Avington & Hamstead Marshall
URL:https://www.achurchnearyou.com/church/168/service-and-events/events/12
 56212/
END:VEVENT
BEGIN:VEVENT
SUMMARY:Holy Communion  - BCP
DTSTART;TZID=Europe/London:20280305T080000
DTEND;TZID=Europe/London:20280305T090000
DTSTAMP:20260425T213351Z
UID:12562122028-03-05 08:00:00+00:00achurchnearyou
CATEGORIES:
DESCRIPTION:BCP Service
GEO:-1.450856;51.400116
LOCATION:St Mary Kintbury with Avington & Hamstead Marshall
URL:https://www.achurchnearyou.com/church/168/service-and-events/events/12
 56212/
END:VEVENT
BEGIN:VEVENT
SUMMARY:Holy Communion  - BCP
DTSTART;TZID=Europe/London:20280402T080000
DTEND;TZID=Europe/London:20280402T090000
DTSTAMP:20260425T213351Z
UID:12562122028-04-02 08:00:00+01:00achurchnearyou
CATEGORIES:
DESCRIPTION:BCP Service
GEO:-1.450856;51.400116
LOCATION:St Mary Kintbury with Avington & Hamstead Marshall
URL:https://www.achurchnearyou.com/church/168/service-and-events/events/12
 56212/
END:VEVENT
BEGIN:VEVENT
SUMMARY:Holy Communion  - BCP
DTSTART;TZID=Europe/London:20280507T080000
DTEND;TZID=Europe/London:20280507T090000
DTSTAMP:20260425T213351Z
UID:12562122028-05-07 08:00:00+01:00achurchnearyou
CATEGORIES:
DESCRIPTION:BCP Service
GEO:-1.450856;51.400116
LOCATION:St Mary Kintbury with Avington & Hamstead Marshall
URL:https://www.achurchnearyou.com/church/168/service-and-events/events/12
 56212/
END:VEVENT
BEGIN:VEVENT
SUMMARY:Holy Communion  - BCP
DTSTART;TZID=Europe/London:20280604T080000
DTEND;TZID=Europe/London:20280604T090000
DTSTAMP:20260425T213351Z
UID:12562122028-06-04 08:00:00+01:00achurchnearyou
CATEGORIES:
DESCRIPTION:BCP Service
GEO:-1.450856;51.400116
LOCATION:St Mary Kintbury with Avington & Hamstead Marshall
URL:https://www.achurchnearyou.com/church/168/service-and-events/events/12
 56212/
END:VEVENT
BEGIN:VEVENT
SUMMARY:Holy Communion  - BCP
DTSTART;TZID=Europe/London:20280702T080000
DTEND;TZID=Europe/London:20280702T090000
DTSTAMP:20260425T213351Z
UID:12562122028-07-02 08:00:00+01:00achurchnearyou
CATEGORIES:
DESCRIPTION:BCP Service
GEO:-1.450856;51.400116
LOCATION:St Mary Kintbury with Avington & Hamstead Marshall
URL:https://www.achurchnearyou.com/church/168/service-and-events/events/12
 56212/
END:VEVENT
BEGIN:VEVENT
SUMMARY:Holy Communion  - BCP
DTSTART;TZID=Europe/London:20280806T080000
DTEND;TZID=Europe/London:20280806T090000
DTSTAMP:20260425T213351Z
UID:12562122028-08-06 08:00:00+01:00achurchnearyou
CATEGORIES:
DESCRIPTION:BCP Service
GEO:-1.450856;51.400116
LOCATION:St Mary Kintbury with Avington & Hamstead Marshall
URL:https://www.achurchnearyou.com/church/168/service-and-events/events/12
 56212/
END:VEVENT
BEGIN:VEVENT
SUMMARY:Holy Communion  - BCP
DTSTART;TZID=Europe/London:20280903T080000
DTEND;TZID=Europe/London:20280903T090000
DTSTAMP:20260425T213351Z
UID:12562122028-09-03 08:00:00+01:00achurchnearyou
CATEGORIES:
DESCRIPTION:BCP Service
GEO:-1.450856;51.400116
LOCATION:St Mary Kintbury with Avington & Hamstead Marshall
URL:https://www.achurchnearyou.com/church/168/service-and-events/events/12
 56212/
END:VEVENT
BEGIN:VEVENT
SUMMARY:Holy Communion  - BCP
DTSTART;TZID=Europe/London:20281001T080000
DTEND;TZID=Europe/London:20281001T090000
DTSTAMP:20260425T213351Z
UID:12562122028-10-01 08:00:00+01:00achurchnearyou
CATEGORIES:
DESCRIPTION:BCP Service
GEO:-1.450856;51.400116
LOCATION:St Mary Kintbury with Avington & Hamstead Marshall
URL:https://www.achurchnearyou.com/church/168/service-and-events/events/12
 56212/
END:VEVENT
BEGIN:VEVENT
SUMMARY:Holy Communion  - BCP
DTSTART;TZID=Europe/London:20281105T080000
DTEND;TZID=Europe/London:20281105T090000
DTSTAMP:20260425T213351Z
UID:12562122028-11-05 08:00:00+00:00achurchnearyou
CATEGORIES:
DESCRIPTION:BCP Service
GEO:-1.450856;51.400116
LOCATION:St Mary Kintbury with Avington & Hamstead Marshall
URL:https://www.achurchnearyou.com/church/168/service-and-events/events/12
 56212/
END:VEVENT
BEGIN:VEVENT
SUMMARY:Holy Communion  - BCP
DTSTART;TZID=Europe/London:20281203T080000
DTEND;TZID=Europe/London:20281203T090000
DTSTAMP:20260425T213351Z
UID:12562122028-12-03 08:00:00+00:00achurchnearyou
CATEGORIES:
DESCRIPTION:BCP Service
GEO:-1.450856;51.400116
LOCATION:St Mary Kintbury with Avington & Hamstead Marshall
URL:https://www.achurchnearyou.com/church/168/service-and-events/events/12
 56212/
END:VEVENT
BEGIN:VEVENT
SUMMARY:Holy Communion  - BCP
DTSTART;TZID=Europe/London:20290107T080000
DTEND;TZID=Europe/London:20290107T090000
DTSTAMP:20260425T213351Z
UID:12562122029-01-07 08:00:00+00:00achurchnearyou
CATEGORIES:
DESCRIPTION:BCP Service
GEO:-1.450856;51.400116
LOCATION:St Mary Kintbury with Avington & Hamstead Marshall
URL:https://www.achurchnearyou.com/church/168/service-and-events/events/12
 56212/
END:VEVENT
BEGIN:VEVENT
SUMMARY:Holy Communion  - BCP
DTSTART;TZID=Europe/London:20290204T080000
DTEND;TZID=Europe/London:20290204T090000
DTSTAMP:20260425T213351Z
UID:12562122029-02-04 08:00:00+00:00achurchnearyou
CATEGORIES:
DESCRIPTION:BCP Service
GEO:-1.450856;51.400116
LOCATION:St Mary Kintbury with Avington & Hamstead Marshall
URL:https://www.achurchnearyou.com/church/168/service-and-events/events/12
 56212/
END:VEVENT
BEGIN:VEVENT
SUMMARY:Holy Communion  - BCP
DTSTART;TZID=Europe/London:20290304T080000
DTEND;TZID=Europe/London:20290304T090000
DTSTAMP:20260425T213351Z
UID:12562122029-03-04 08:00:00+00:00achurchnearyou
CATEGORIES:
DESCRIPTION:BCP Service
GEO:-1.450856;51.400116
LOCATION:St Mary Kintbury with Avington & Hamstead Marshall
URL:https://www.achurchnearyou.com/church/168/service-and-events/events/12
 56212/
END:VEVENT
BEGIN:VEVENT
SUMMARY:Holy Communion  - BCP
DTSTART;TZID=Europe/London:20290401T080000
DTEND;TZID=Europe/London:20290401T090000
DTSTAMP:20260425T213351Z
UID:12562122029-04-01 08:00:00+01:00achurchnearyou
CATEGORIES:
DESCRIPTION:BCP Service
GEO:-1.450856;51.400116
LOCATION:St Mary Kintbury with Avington & Hamstead Marshall
URL:https://www.achurchnearyou.com/church/168/service-and-events/events/12
 56212/
END:VEVENT
BEGIN:VEVENT
SUMMARY:Holy Communion  - BCP
DTSTART;TZID=Europe/London:20290506T080000
DTEND;TZID=Europe/London:20290506T090000
DTSTAMP:20260425T213351Z
UID:12562122029-05-06 08:00:00+01:00achurchnearyou
CATEGORIES:
DESCRIPTION:BCP Service
GEO:-1.450856;51.400116
LOCATION:St Mary Kintbury with Avington & Hamstead Marshall
URL:https://www.achurchnearyou.com/church/168/service-and-events/events/12
 56212/
END:VEVENT
BEGIN:VEVENT
SUMMARY:Holy Communion  - BCP
DTSTART;TZID=Europe/London:20290603T080000
DTEND;TZID=Europe/London:20290603T090000
DTSTAMP:20260425T213351Z
UID:12562122029-06-03 08:00:00+01:00achurchnearyou
CATEGORIES:
DESCRIPTION:BCP Service
GEO:-1.450856;51.400116
LOCATION:St Mary Kintbury with Avington & Hamstead Marshall
URL:https://www.achurchnearyou.com/church/168/service-and-events/events/12
 56212/
END:VEVENT
BEGIN:VEVENT
SUMMARY:Holy Communion  - BCP
DTSTART;TZID=Europe/London:20290701T080000
DTEND;TZID=Europe/London:20290701T090000
DTSTAMP:20260425T213351Z
UID:12562122029-07-01 08:00:00+01:00achurchnearyou
CATEGORIES:
DESCRIPTION:BCP Service
GEO:-1.450856;51.400116
LOCATION:St Mary Kintbury with Avington & Hamstead Marshall
URL:https://www.achurchnearyou.com/church/168/service-and-events/events/12
 56212/
END:VEVENT
BEGIN:VEVENT
SUMMARY:Holy Communion  - BCP
DTSTART;TZID=Europe/London:20290805T080000
DTEND;TZID=Europe/London:20290805T090000
DTSTAMP:20260425T213351Z
UID:12562122029-08-05 08:00:00+01:00achurchnearyou
CATEGORIES:
DESCRIPTION:BCP Service
GEO:-1.450856;51.400116
LOCATION:St Mary Kintbury with Avington & Hamstead Marshall
URL:https://www.achurchnearyou.com/church/168/service-and-events/events/12
 56212/
END:VEVENT
BEGIN:VEVENT
SUMMARY:Holy Communion  - BCP
DTSTART;TZID=Europe/London:20290902T080000
DTEND;TZID=Europe/London:20290902T090000
DTSTAMP:20260425T213351Z
UID:12562122029-09-02 08:00:00+01:00achurchnearyou
CATEGORIES:
DESCRIPTION:BCP Service
GEO:-1.450856;51.400116
LOCATION:St Mary Kintbury with Avington & Hamstead Marshall
URL:https://www.achurchnearyou.com/church/168/service-and-events/events/12
 56212/
END:VEVENT
BEGIN:VEVENT
SUMMARY:Holy Communion  - BCP
DTSTART;TZID=Europe/London:20291007T080000
DTEND;TZID=Europe/London:20291007T090000
DTSTAMP:20260425T213351Z
UID:12562122029-10-07 08:00:00+01:00achurchnearyou
CATEGORIES:
DESCRIPTION:BCP Service
GEO:-1.450856;51.400116
LOCATION:St Mary Kintbury with Avington & Hamstead Marshall
URL:https://www.achurchnearyou.com/church/168/service-and-events/events/12
 56212/
END:VEVENT
BEGIN:VEVENT
SUMMARY:Holy Communion  - BCP
DTSTART;TZID=Europe/London:20291104T080000
DTEND;TZID=Europe/London:20291104T090000
DTSTAMP:20260425T213351Z
UID:12562122029-11-04 08:00:00+00:00achurchnearyou
CATEGORIES:
DESCRIPTION:BCP Service
GEO:-1.450856;51.400116
LOCATION:St Mary Kintbury with Avington & Hamstead Marshall
URL:https://www.achurchnearyou.com/church/168/service-and-events/events/12
 56212/
END:VEVENT
BEGIN:VEVENT
SUMMARY:Holy Communion  - BCP
DTSTART;TZID=Europe/London:20291202T080000
DTEND;TZID=Europe/London:20291202T090000
DTSTAMP:20260425T213351Z
UID:12562122029-12-02 08:00:00+00:00achurchnearyou
CATEGORIES:
DESCRIPTION:BCP Service
GEO:-1.450856;51.400116
LOCATION:St Mary Kintbury with Avington & Hamstead Marshall
URL:https://www.achurchnearyou.com/church/168/service-and-events/events/12
 56212/
END:VEVENT
BEGIN:VEVENT
SUMMARY:Holy Communion  - BCP
DTSTART;TZID=Europe/London:20300106T080000
DTEND;TZID=Europe/London:20300106T090000
DTSTAMP:20260425T213351Z
UID:12562122030-01-06 08:00:00+00:00achurchnearyou
CATEGORIES:
DESCRIPTION:BCP Service
GEO:-1.450856;51.400116
LOCATION:St Mary Kintbury with Avington & Hamstead Marshall
URL:https://www.achurchnearyou.com/church/168/service-and-events/events/12
 56212/
END:VEVENT
END:VCALENDAR
