BEGIN:VCALENDAR
VERSION:2.0
PRODID:-//achurchnearyou.com//eventfeed//EN
CALSCALE:GREGORIAN
METHOD:PUBLISH
X-WR-TIMEZONE:UTC
BEGIN:VEVENT
SUMMARY:Holy Communion - BCP
DTSTART;TZID=Europe/London:20251116T083000
DTEND;TZID=Europe/London:20251116T093000
DTSTAMP:20260425T213348Z
UID:12562402025-11-16 08:30:00+00:00achurchnearyou
CATEGORIES:
DESCRIPTION:BCP Service
GEO:-1.450856;51.400116
LOCATION:St Mary Kintbury with Avington & Hamstead Marshall
URL:https://www.achurchnearyou.com/church/168/service-and-events/events/12
 56240/
END:VEVENT
BEGIN:VEVENT
SUMMARY:Holy Communion - BCP
DTSTART;TZID=Europe/London:20251221T083000
DTEND;TZID=Europe/London:20251221T093000
DTSTAMP:20260425T213348Z
UID:12562402025-12-21 08:30:00+00:00achurchnearyou
CATEGORIES:
DESCRIPTION:BCP Service
GEO:-1.450856;51.400116
LOCATION:St Mary Kintbury with Avington & Hamstead Marshall
URL:https://www.achurchnearyou.com/church/168/service-and-events/events/12
 56240/
END:VEVENT
BEGIN:VEVENT
SUMMARY:Holy Communion - BCP
DTSTART;TZID=Europe/London:20260118T083000
DTEND;TZID=Europe/London:20260118T093000
DTSTAMP:20260425T213348Z
UID:12562402026-01-18 08:30:00+00:00achurchnearyou
CATEGORIES:
DESCRIPTION:BCP Service
GEO:-1.450856;51.400116
LOCATION:St Mary Kintbury with Avington & Hamstead Marshall
URL:https://www.achurchnearyou.com/church/168/service-and-events/events/12
 56240/
END:VEVENT
BEGIN:VEVENT
SUMMARY:Holy Communion - BCP
DTSTART;TZID=Europe/London:20260215T083000
DTEND;TZID=Europe/London:20260215T093000
DTSTAMP:20260425T213348Z
UID:12562402026-02-15 08:30:00+00:00achurchnearyou
CATEGORIES:
DESCRIPTION:BCP Service
GEO:-1.450856;51.400116
LOCATION:St Mary Kintbury with Avington & Hamstead Marshall
URL:https://www.achurchnearyou.com/church/168/service-and-events/events/12
 56240/
END:VEVENT
BEGIN:VEVENT
SUMMARY:Holy Communion - BCP
DTSTART;TZID=Europe/London:20260315T083000
DTEND;TZID=Europe/London:20260315T093000
DTSTAMP:20260425T213348Z
UID:12562402026-03-15 08:30:00+00:00achurchnearyou
CATEGORIES:
DESCRIPTION:BCP Service
GEO:-1.450856;51.400116
LOCATION:St Mary Kintbury with Avington & Hamstead Marshall
URL:https://www.achurchnearyou.com/church/168/service-and-events/events/12
 56240/
END:VEVENT
BEGIN:VEVENT
SUMMARY:Holy Communion - BCP
DTSTART;TZID=Europe/London:20260419T083000
DTEND;TZID=Europe/London:20260419T093000
DTSTAMP:20260425T213348Z
UID:12562402026-04-19 08:30:00+01:00achurchnearyou
CATEGORIES:
DESCRIPTION:BCP Service
GEO:-1.450856;51.400116
LOCATION:St Mary Kintbury with Avington & Hamstead Marshall
URL:https://www.achurchnearyou.com/church/168/service-and-events/events/12
 56240/
END:VEVENT
BEGIN:VEVENT
SUMMARY:Holy Communion - BCP
DTSTART;TZID=Europe/London:20260517T083000
DTEND;TZID=Europe/London:20260517T093000
DTSTAMP:20260425T213348Z
UID:12562402026-05-17 08:30:00+01:00achurchnearyou
CATEGORIES:
DESCRIPTION:BCP Service
GEO:-1.450856;51.400116
LOCATION:St Mary Kintbury with Avington & Hamstead Marshall
URL:https://www.achurchnearyou.com/church/168/service-and-events/events/12
 56240/
END:VEVENT
BEGIN:VEVENT
SUMMARY:Holy Communion - BCP
DTSTART;TZID=Europe/London:20260621T083000
DTEND;TZID=Europe/London:20260621T093000
DTSTAMP:20260425T213348Z
UID:12562402026-06-21 08:30:00+01:00achurchnearyou
CATEGORIES:
DESCRIPTION:BCP Service
GEO:-1.450856;51.400116
LOCATION:St Mary Kintbury with Avington & Hamstead Marshall
URL:https://www.achurchnearyou.com/church/168/service-and-events/events/12
 56240/
END:VEVENT
BEGIN:VEVENT
SUMMARY:Holy Communion - BCP
DTSTART;TZID=Europe/London:20260719T083000
DTEND;TZID=Europe/London:20260719T093000
DTSTAMP:20260425T213348Z
UID:12562402026-07-19 08:30:00+01:00achurchnearyou
CATEGORIES:
DESCRIPTION:BCP Service
GEO:-1.450856;51.400116
LOCATION:St Mary Kintbury with Avington & Hamstead Marshall
URL:https://www.achurchnearyou.com/church/168/service-and-events/events/12
 56240/
END:VEVENT
BEGIN:VEVENT
SUMMARY:Holy Communion - BCP
DTSTART;TZID=Europe/London:20260816T083000
DTEND;TZID=Europe/London:20260816T093000
DTSTAMP:20260425T213348Z
UID:12562402026-08-16 08:30:00+01:00achurchnearyou
CATEGORIES:
DESCRIPTION:BCP Service
GEO:-1.450856;51.400116
LOCATION:St Mary Kintbury with Avington & Hamstead Marshall
URL:https://www.achurchnearyou.com/church/168/service-and-events/events/12
 56240/
END:VEVENT
BEGIN:VEVENT
SUMMARY:Holy Communion - BCP
DTSTART;TZID=Europe/London:20260920T083000
DTEND;TZID=Europe/London:20260920T093000
DTSTAMP:20260425T213348Z
UID:12562402026-09-20 08:30:00+01:00achurchnearyou
CATEGORIES:
DESCRIPTION:BCP Service
GEO:-1.450856;51.400116
LOCATION:St Mary Kintbury with Avington & Hamstead Marshall
URL:https://www.achurchnearyou.com/church/168/service-and-events/events/12
 56240/
END:VEVENT
BEGIN:VEVENT
SUMMARY:Holy Communion - BCP
DTSTART;TZID=Europe/London:20261018T083000
DTEND;TZID=Europe/London:20261018T093000
DTSTAMP:20260425T213348Z
UID:12562402026-10-18 08:30:00+01:00achurchnearyou
CATEGORIES:
DESCRIPTION:BCP Service
GEO:-1.450856;51.400116
LOCATION:St Mary Kintbury with Avington & Hamstead Marshall
URL:https://www.achurchnearyou.com/church/168/service-and-events/events/12
 56240/
END:VEVENT
BEGIN:VEVENT
SUMMARY:Holy Communion - BCP
DTSTART;TZID=Europe/London:20261115T083000
DTEND;TZID=Europe/London:20261115T093000
DTSTAMP:20260425T213348Z
UID:12562402026-11-15 08:30:00+00:00achurchnearyou
CATEGORIES:
DESCRIPTION:BCP Service
GEO:-1.450856;51.400116
LOCATION:St Mary Kintbury with Avington & Hamstead Marshall
URL:https://www.achurchnearyou.com/church/168/service-and-events/events/12
 56240/
END:VEVENT
BEGIN:VEVENT
SUMMARY:Holy Communion - BCP
DTSTART;TZID=Europe/London:20261220T083000
DTEND;TZID=Europe/London:20261220T093000
DTSTAMP:20260425T213348Z
UID:12562402026-12-20 08:30:00+00:00achurchnearyou
CATEGORIES:
DESCRIPTION:BCP Service
GEO:-1.450856;51.400116
LOCATION:St Mary Kintbury with Avington & Hamstead Marshall
URL:https://www.achurchnearyou.com/church/168/service-and-events/events/12
 56240/
END:VEVENT
BEGIN:VEVENT
SUMMARY:Holy Communion - BCP
DTSTART;TZID=Europe/London:20270117T083000
DTEND;TZID=Europe/London:20270117T093000
DTSTAMP:20260425T213348Z
UID:12562402027-01-17 08:30:00+00:00achurchnearyou
CATEGORIES:
DESCRIPTION:BCP Service
GEO:-1.450856;51.400116
LOCATION:St Mary Kintbury with Avington & Hamstead Marshall
URL:https://www.achurchnearyou.com/church/168/service-and-events/events/12
 56240/
END:VEVENT
BEGIN:VEVENT
SUMMARY:Holy Communion - BCP
DTSTART;TZID=Europe/London:20270221T083000
DTEND;TZID=Europe/London:20270221T093000
DTSTAMP:20260425T213348Z
UID:12562402027-02-21 08:30:00+00:00achurchnearyou
CATEGORIES:
DESCRIPTION:BCP Service
GEO:-1.450856;51.400116
LOCATION:St Mary Kintbury with Avington & Hamstead Marshall
URL:https://www.achurchnearyou.com/church/168/service-and-events/events/12
 56240/
END:VEVENT
BEGIN:VEVENT
SUMMARY:Holy Communion - BCP
DTSTART;TZID=Europe/London:20270321T083000
DTEND;TZID=Europe/London:20270321T093000
DTSTAMP:20260425T213348Z
UID:12562402027-03-21 08:30:00+00:00achurchnearyou
CATEGORIES:
DESCRIPTION:BCP Service
GEO:-1.450856;51.400116
LOCATION:St Mary Kintbury with Avington & Hamstead Marshall
URL:https://www.achurchnearyou.com/church/168/service-and-events/events/12
 56240/
END:VEVENT
BEGIN:VEVENT
SUMMARY:Holy Communion - BCP
DTSTART;TZID=Europe/London:20270418T083000
DTEND;TZID=Europe/London:20270418T093000
DTSTAMP:20260425T213348Z
UID:12562402027-04-18 08:30:00+01:00achurchnearyou
CATEGORIES:
DESCRIPTION:BCP Service
GEO:-1.450856;51.400116
LOCATION:St Mary Kintbury with Avington & Hamstead Marshall
URL:https://www.achurchnearyou.com/church/168/service-and-events/events/12
 56240/
END:VEVENT
BEGIN:VEVENT
SUMMARY:Holy Communion - BCP
DTSTART;TZID=Europe/London:20270516T083000
DTEND;TZID=Europe/London:20270516T093000
DTSTAMP:20260425T213348Z
UID:12562402027-05-16 08:30:00+01:00achurchnearyou
CATEGORIES:
DESCRIPTION:BCP Service
GEO:-1.450856;51.400116
LOCATION:St Mary Kintbury with Avington & Hamstead Marshall
URL:https://www.achurchnearyou.com/church/168/service-and-events/events/12
 56240/
END:VEVENT
BEGIN:VEVENT
SUMMARY:Holy Communion - BCP
DTSTART;TZID=Europe/London:20270620T083000
DTEND;TZID=Europe/London:20270620T093000
DTSTAMP:20260425T213348Z
UID:12562402027-06-20 08:30:00+01:00achurchnearyou
CATEGORIES:
DESCRIPTION:BCP Service
GEO:-1.450856;51.400116
LOCATION:St Mary Kintbury with Avington & Hamstead Marshall
URL:https://www.achurchnearyou.com/church/168/service-and-events/events/12
 56240/
END:VEVENT
BEGIN:VEVENT
SUMMARY:Holy Communion - BCP
DTSTART;TZID=Europe/London:20270718T083000
DTEND;TZID=Europe/London:20270718T093000
DTSTAMP:20260425T213348Z
UID:12562402027-07-18 08:30:00+01:00achurchnearyou
CATEGORIES:
DESCRIPTION:BCP Service
GEO:-1.450856;51.400116
LOCATION:St Mary Kintbury with Avington & Hamstead Marshall
URL:https://www.achurchnearyou.com/church/168/service-and-events/events/12
 56240/
END:VEVENT
BEGIN:VEVENT
SUMMARY:Holy Communion - BCP
DTSTART;TZID=Europe/London:20270815T083000
DTEND;TZID=Europe/London:20270815T093000
DTSTAMP:20260425T213348Z
UID:12562402027-08-15 08:30:00+01:00achurchnearyou
CATEGORIES:
DESCRIPTION:BCP Service
GEO:-1.450856;51.400116
LOCATION:St Mary Kintbury with Avington & Hamstead Marshall
URL:https://www.achurchnearyou.com/church/168/service-and-events/events/12
 56240/
END:VEVENT
BEGIN:VEVENT
SUMMARY:Holy Communion - BCP
DTSTART;TZID=Europe/London:20270919T083000
DTEND;TZID=Europe/London:20270919T093000
DTSTAMP:20260425T213348Z
UID:12562402027-09-19 08:30:00+01:00achurchnearyou
CATEGORIES:
DESCRIPTION:BCP Service
GEO:-1.450856;51.400116
LOCATION:St Mary Kintbury with Avington & Hamstead Marshall
URL:https://www.achurchnearyou.com/church/168/service-and-events/events/12
 56240/
END:VEVENT
BEGIN:VEVENT
SUMMARY:Holy Communion - BCP
DTSTART;TZID=Europe/London:20271017T083000
DTEND;TZID=Europe/London:20271017T093000
DTSTAMP:20260425T213348Z
UID:12562402027-10-17 08:30:00+01:00achurchnearyou
CATEGORIES:
DESCRIPTION:BCP Service
GEO:-1.450856;51.400116
LOCATION:St Mary Kintbury with Avington & Hamstead Marshall
URL:https://www.achurchnearyou.com/church/168/service-and-events/events/12
 56240/
END:VEVENT
BEGIN:VEVENT
SUMMARY:Holy Communion - BCP
DTSTART;TZID=Europe/London:20271121T083000
DTEND;TZID=Europe/London:20271121T093000
DTSTAMP:20260425T213348Z
UID:12562402027-11-21 08:30:00+00:00achurchnearyou
CATEGORIES:
DESCRIPTION:BCP Service
GEO:-1.450856;51.400116
LOCATION:St Mary Kintbury with Avington & Hamstead Marshall
URL:https://www.achurchnearyou.com/church/168/service-and-events/events/12
 56240/
END:VEVENT
BEGIN:VEVENT
SUMMARY:Holy Communion - BCP
DTSTART;TZID=Europe/London:20271219T083000
DTEND;TZID=Europe/London:20271219T093000
DTSTAMP:20260425T213348Z
UID:12562402027-12-19 08:30:00+00:00achurchnearyou
CATEGORIES:
DESCRIPTION:BCP Service
GEO:-1.450856;51.400116
LOCATION:St Mary Kintbury with Avington & Hamstead Marshall
URL:https://www.achurchnearyou.com/church/168/service-and-events/events/12
 56240/
END:VEVENT
BEGIN:VEVENT
SUMMARY:Holy Communion - BCP
DTSTART;TZID=Europe/London:20280116T083000
DTEND;TZID=Europe/London:20280116T093000
DTSTAMP:20260425T213348Z
UID:12562402028-01-16 08:30:00+00:00achurchnearyou
CATEGORIES:
DESCRIPTION:BCP Service
GEO:-1.450856;51.400116
LOCATION:St Mary Kintbury with Avington & Hamstead Marshall
URL:https://www.achurchnearyou.com/church/168/service-and-events/events/12
 56240/
END:VEVENT
BEGIN:VEVENT
SUMMARY:Holy Communion - BCP
DTSTART;TZID=Europe/London:20280220T083000
DTEND;TZID=Europe/London:20280220T093000
DTSTAMP:20260425T213348Z
UID:12562402028-02-20 08:30:00+00:00achurchnearyou
CATEGORIES:
DESCRIPTION:BCP Service
GEO:-1.450856;51.400116
LOCATION:St Mary Kintbury with Avington & Hamstead Marshall
URL:https://www.achurchnearyou.com/church/168/service-and-events/events/12
 56240/
END:VEVENT
BEGIN:VEVENT
SUMMARY:Holy Communion - BCP
DTSTART;TZID=Europe/London:20280319T083000
DTEND;TZID=Europe/London:20280319T093000
DTSTAMP:20260425T213348Z
UID:12562402028-03-19 08:30:00+00:00achurchnearyou
CATEGORIES:
DESCRIPTION:BCP Service
GEO:-1.450856;51.400116
LOCATION:St Mary Kintbury with Avington & Hamstead Marshall
URL:https://www.achurchnearyou.com/church/168/service-and-events/events/12
 56240/
END:VEVENT
BEGIN:VEVENT
SUMMARY:Holy Communion - BCP
DTSTART;TZID=Europe/London:20280416T083000
DTEND;TZID=Europe/London:20280416T093000
DTSTAMP:20260425T213348Z
UID:12562402028-04-16 08:30:00+01:00achurchnearyou
CATEGORIES:
DESCRIPTION:BCP Service
GEO:-1.450856;51.400116
LOCATION:St Mary Kintbury with Avington & Hamstead Marshall
URL:https://www.achurchnearyou.com/church/168/service-and-events/events/12
 56240/
END:VEVENT
BEGIN:VEVENT
SUMMARY:Holy Communion - BCP
DTSTART;TZID=Europe/London:20280521T083000
DTEND;TZID=Europe/London:20280521T093000
DTSTAMP:20260425T213348Z
UID:12562402028-05-21 08:30:00+01:00achurchnearyou
CATEGORIES:
DESCRIPTION:BCP Service
GEO:-1.450856;51.400116
LOCATION:St Mary Kintbury with Avington & Hamstead Marshall
URL:https://www.achurchnearyou.com/church/168/service-and-events/events/12
 56240/
END:VEVENT
BEGIN:VEVENT
SUMMARY:Holy Communion - BCP
DTSTART;TZID=Europe/London:20280618T083000
DTEND;TZID=Europe/London:20280618T093000
DTSTAMP:20260425T213348Z
UID:12562402028-06-18 08:30:00+01:00achurchnearyou
CATEGORIES:
DESCRIPTION:BCP Service
GEO:-1.450856;51.400116
LOCATION:St Mary Kintbury with Avington & Hamstead Marshall
URL:https://www.achurchnearyou.com/church/168/service-and-events/events/12
 56240/
END:VEVENT
BEGIN:VEVENT
SUMMARY:Holy Communion - BCP
DTSTART;TZID=Europe/London:20280716T083000
DTEND;TZID=Europe/London:20280716T093000
DTSTAMP:20260425T213348Z
UID:12562402028-07-16 08:30:00+01:00achurchnearyou
CATEGORIES:
DESCRIPTION:BCP Service
GEO:-1.450856;51.400116
LOCATION:St Mary Kintbury with Avington & Hamstead Marshall
URL:https://www.achurchnearyou.com/church/168/service-and-events/events/12
 56240/
END:VEVENT
BEGIN:VEVENT
SUMMARY:Holy Communion - BCP
DTSTART;TZID=Europe/London:20280820T083000
DTEND;TZID=Europe/London:20280820T093000
DTSTAMP:20260425T213348Z
UID:12562402028-08-20 08:30:00+01:00achurchnearyou
CATEGORIES:
DESCRIPTION:BCP Service
GEO:-1.450856;51.400116
LOCATION:St Mary Kintbury with Avington & Hamstead Marshall
URL:https://www.achurchnearyou.com/church/168/service-and-events/events/12
 56240/
END:VEVENT
BEGIN:VEVENT
SUMMARY:Holy Communion - BCP
DTSTART;TZID=Europe/London:20280917T083000
DTEND;TZID=Europe/London:20280917T093000
DTSTAMP:20260425T213348Z
UID:12562402028-09-17 08:30:00+01:00achurchnearyou
CATEGORIES:
DESCRIPTION:BCP Service
GEO:-1.450856;51.400116
LOCATION:St Mary Kintbury with Avington & Hamstead Marshall
URL:https://www.achurchnearyou.com/church/168/service-and-events/events/12
 56240/
END:VEVENT
BEGIN:VEVENT
SUMMARY:Holy Communion - BCP
DTSTART;TZID=Europe/London:20281015T083000
DTEND;TZID=Europe/London:20281015T093000
DTSTAMP:20260425T213348Z
UID:12562402028-10-15 08:30:00+01:00achurchnearyou
CATEGORIES:
DESCRIPTION:BCP Service
GEO:-1.450856;51.400116
LOCATION:St Mary Kintbury with Avington & Hamstead Marshall
URL:https://www.achurchnearyou.com/church/168/service-and-events/events/12
 56240/
END:VEVENT
BEGIN:VEVENT
SUMMARY:Holy Communion - BCP
DTSTART;TZID=Europe/London:20281119T083000
DTEND;TZID=Europe/London:20281119T093000
DTSTAMP:20260425T213348Z
UID:12562402028-11-19 08:30:00+00:00achurchnearyou
CATEGORIES:
DESCRIPTION:BCP Service
GEO:-1.450856;51.400116
LOCATION:St Mary Kintbury with Avington & Hamstead Marshall
URL:https://www.achurchnearyou.com/church/168/service-and-events/events/12
 56240/
END:VEVENT
BEGIN:VEVENT
SUMMARY:Holy Communion - BCP
DTSTART;TZID=Europe/London:20281217T083000
DTEND;TZID=Europe/London:20281217T093000
DTSTAMP:20260425T213348Z
UID:12562402028-12-17 08:30:00+00:00achurchnearyou
CATEGORIES:
DESCRIPTION:BCP Service
GEO:-1.450856;51.400116
LOCATION:St Mary Kintbury with Avington & Hamstead Marshall
URL:https://www.achurchnearyou.com/church/168/service-and-events/events/12
 56240/
END:VEVENT
BEGIN:VEVENT
SUMMARY:Holy Communion - BCP
DTSTART;TZID=Europe/London:20290121T083000
DTEND;TZID=Europe/London:20290121T093000
DTSTAMP:20260425T213348Z
UID:12562402029-01-21 08:30:00+00:00achurchnearyou
CATEGORIES:
DESCRIPTION:BCP Service
GEO:-1.450856;51.400116
LOCATION:St Mary Kintbury with Avington & Hamstead Marshall
URL:https://www.achurchnearyou.com/church/168/service-and-events/events/12
 56240/
END:VEVENT
END:VCALENDAR
