BEGIN:VCALENDAR
VERSION:2.0
PRODID:-//achurchnearyou.com//eventfeed//EN
CALSCALE:GREGORIAN
METHOD:PUBLISH
X-WR-TIMEZONE:UTC
BEGIN:VEVENT
SUMMARY:Holy Communion - BCP
DTSTART;TZID=Europe/London:20251130T080000
DTEND;TZID=Europe/London:20251130T090000
DTSTAMP:20260425T213302Z
UID:12562552025-11-30 08:00:00+00:00achurchnearyou
CATEGORIES:
DESCRIPTION:BCP Service
GEO:-1.450856;51.400116
LOCATION:St Mary Kintbury with Avington & Hamstead Marshall
URL:https://www.achurchnearyou.com/church/168/service-and-events/events/12
 56255/
END:VEVENT
BEGIN:VEVENT
SUMMARY:Holy Communion - BCP
DTSTART;TZID=Europe/London:20260329T080000
DTEND;TZID=Europe/London:20260329T090000
DTSTAMP:20260425T213302Z
UID:12562552026-03-29 08:00:00+01:00achurchnearyou
CATEGORIES:
DESCRIPTION:BCP Service
GEO:-1.450856;51.400116
LOCATION:St Mary Kintbury with Avington & Hamstead Marshall
URL:https://www.achurchnearyou.com/church/168/service-and-events/events/12
 56255/
END:VEVENT
BEGIN:VEVENT
SUMMARY:Holy Communion - BCP
DTSTART;TZID=Europe/London:20260531T080000
DTEND;TZID=Europe/London:20260531T090000
DTSTAMP:20260425T213302Z
UID:12562552026-05-31 08:00:00+01:00achurchnearyou
CATEGORIES:
DESCRIPTION:BCP Service
GEO:-1.450856;51.400116
LOCATION:St Mary Kintbury with Avington & Hamstead Marshall
URL:https://www.achurchnearyou.com/church/168/service-and-events/events/12
 56255/
END:VEVENT
BEGIN:VEVENT
SUMMARY:Holy Communion - BCP
DTSTART;TZID=Europe/London:20260830T080000
DTEND;TZID=Europe/London:20260830T090000
DTSTAMP:20260425T213302Z
UID:12562552026-08-30 08:00:00+01:00achurchnearyou
CATEGORIES:
DESCRIPTION:BCP Service
GEO:-1.450856;51.400116
LOCATION:St Mary Kintbury with Avington & Hamstead Marshall
URL:https://www.achurchnearyou.com/church/168/service-and-events/events/12
 56255/
END:VEVENT
BEGIN:VEVENT
SUMMARY:Holy Communion - BCP
DTSTART;TZID=Europe/London:20261129T080000
DTEND;TZID=Europe/London:20261129T090000
DTSTAMP:20260425T213302Z
UID:12562552026-11-29 08:00:00+00:00achurchnearyou
CATEGORIES:
DESCRIPTION:BCP Service
GEO:-1.450856;51.400116
LOCATION:St Mary Kintbury with Avington & Hamstead Marshall
URL:https://www.achurchnearyou.com/church/168/service-and-events/events/12
 56255/
END:VEVENT
BEGIN:VEVENT
SUMMARY:Holy Communion - BCP
DTSTART;TZID=Europe/London:20270131T080000
DTEND;TZID=Europe/London:20270131T090000
DTSTAMP:20260425T213302Z
UID:12562552027-01-31 08:00:00+00:00achurchnearyou
CATEGORIES:
DESCRIPTION:BCP Service
GEO:-1.450856;51.400116
LOCATION:St Mary Kintbury with Avington & Hamstead Marshall
URL:https://www.achurchnearyou.com/church/168/service-and-events/events/12
 56255/
END:VEVENT
BEGIN:VEVENT
SUMMARY:Holy Communion - BCP
DTSTART;TZID=Europe/London:20270530T080000
DTEND;TZID=Europe/London:20270530T090000
DTSTAMP:20260425T213302Z
UID:12562552027-05-30 08:00:00+01:00achurchnearyou
CATEGORIES:
DESCRIPTION:BCP Service
GEO:-1.450856;51.400116
LOCATION:St Mary Kintbury with Avington & Hamstead Marshall
URL:https://www.achurchnearyou.com/church/168/service-and-events/events/12
 56255/
END:VEVENT
BEGIN:VEVENT
SUMMARY:Holy Communion - BCP
DTSTART;TZID=Europe/London:20270829T080000
DTEND;TZID=Europe/London:20270829T090000
DTSTAMP:20260425T213302Z
UID:12562552027-08-29 08:00:00+01:00achurchnearyou
CATEGORIES:
DESCRIPTION:BCP Service
GEO:-1.450856;51.400116
LOCATION:St Mary Kintbury with Avington & Hamstead Marshall
URL:https://www.achurchnearyou.com/church/168/service-and-events/events/12
 56255/
END:VEVENT
BEGIN:VEVENT
SUMMARY:Holy Communion - BCP
DTSTART;TZID=Europe/London:20271031T080000
DTEND;TZID=Europe/London:20271031T090000
DTSTAMP:20260425T213302Z
UID:12562552027-10-31 08:00:00+00:00achurchnearyou
CATEGORIES:
DESCRIPTION:BCP Service
GEO:-1.450856;51.400116
LOCATION:St Mary Kintbury with Avington & Hamstead Marshall
URL:https://www.achurchnearyou.com/church/168/service-and-events/events/12
 56255/
END:VEVENT
BEGIN:VEVENT
SUMMARY:Holy Communion - BCP
DTSTART;TZID=Europe/London:20280130T080000
DTEND;TZID=Europe/London:20280130T090000
DTSTAMP:20260425T213302Z
UID:12562552028-01-30 08:00:00+00:00achurchnearyou
CATEGORIES:
DESCRIPTION:BCP Service
GEO:-1.450856;51.400116
LOCATION:St Mary Kintbury with Avington & Hamstead Marshall
URL:https://www.achurchnearyou.com/church/168/service-and-events/events/12
 56255/
END:VEVENT
BEGIN:VEVENT
SUMMARY:Holy Communion - BCP
DTSTART;TZID=Europe/London:20280430T080000
DTEND;TZID=Europe/London:20280430T090000
DTSTAMP:20260425T213302Z
UID:12562552028-04-30 08:00:00+01:00achurchnearyou
CATEGORIES:
DESCRIPTION:BCP Service
GEO:-1.450856;51.400116
LOCATION:St Mary Kintbury with Avington & Hamstead Marshall
URL:https://www.achurchnearyou.com/church/168/service-and-events/events/12
 56255/
END:VEVENT
BEGIN:VEVENT
SUMMARY:Holy Communion - BCP
DTSTART;TZID=Europe/London:20280730T080000
DTEND;TZID=Europe/London:20280730T090000
DTSTAMP:20260425T213302Z
UID:12562552028-07-30 08:00:00+01:00achurchnearyou
CATEGORIES:
DESCRIPTION:BCP Service
GEO:-1.450856;51.400116
LOCATION:St Mary Kintbury with Avington & Hamstead Marshall
URL:https://www.achurchnearyou.com/church/168/service-and-events/events/12
 56255/
END:VEVENT
BEGIN:VEVENT
SUMMARY:Holy Communion - BCP
DTSTART;TZID=Europe/London:20281029T080000
DTEND;TZID=Europe/London:20281029T090000
DTSTAMP:20260425T213302Z
UID:12562552028-10-29 08:00:00+00:00achurchnearyou
CATEGORIES:
DESCRIPTION:BCP Service
GEO:-1.450856;51.400116
LOCATION:St Mary Kintbury with Avington & Hamstead Marshall
URL:https://www.achurchnearyou.com/church/168/service-and-events/events/12
 56255/
END:VEVENT
BEGIN:VEVENT
SUMMARY:Holy Communion - BCP
DTSTART;TZID=Europe/London:20281231T080000
DTEND;TZID=Europe/London:20281231T090000
DTSTAMP:20260425T213302Z
UID:12562552028-12-31 08:00:00+00:00achurchnearyou
CATEGORIES:
DESCRIPTION:BCP Service
GEO:-1.450856;51.400116
LOCATION:St Mary Kintbury with Avington & Hamstead Marshall
URL:https://www.achurchnearyou.com/church/168/service-and-events/events/12
 56255/
END:VEVENT
BEGIN:VEVENT
SUMMARY:Holy Communion - BCP
DTSTART;TZID=Europe/London:20290429T080000
DTEND;TZID=Europe/London:20290429T090000
DTSTAMP:20260425T213302Z
UID:12562552029-04-29 08:00:00+01:00achurchnearyou
CATEGORIES:
DESCRIPTION:BCP Service
GEO:-1.450856;51.400116
LOCATION:St Mary Kintbury with Avington & Hamstead Marshall
URL:https://www.achurchnearyou.com/church/168/service-and-events/events/12
 56255/
END:VEVENT
END:VCALENDAR
