BEGIN:VCALENDAR
VERSION:2.0
PRODID:-//achurchnearyou.com//eventfeed//EN
CALSCALE:GREGORIAN
METHOD:PUBLISH
X-WR-TIMEZONE:UTC
BEGIN:VEVENT
SUMMARY:Holy Communion 09:30 10th May 6th Sunday of Easter
DTSTART:20260510T083000Z
DTEND:20260510T093000Z
DTSTAMP:20260425T233704Z
UID:13266952026-05-10 08:30:00+00:00achurchnearyou
CATEGORIES:
DESCRIPTION:A Service of Holy Communion led by Rev'd Dru Dennis with Hymns
  from Complete Anglican Hymns Old & New\n\nHymns:\n12    Alleluia\, sing t
 o Jesus\n314  Immortal\, invisible\n84   Breathe on me breath of God\n249 
 Great is thy faithfulness\n\nAll are welcome to our family friendly servic
 es that last approximately 1 hour and are live streamed on YouTube. Well b
 ehaved dogs are welcome. Please ask for Gluten-Free Communion.\nRefreshmen
 ts are served afterwards.
GEO:-1.302353;50.765906
LOCATION:Holy Trinity
URL:https://www.achurchnearyou.com/church/16811/service-and-events/events/
 1326695/
END:VEVENT
END:VCALENDAR
