BEGIN:VCALENDAR
VERSION:2.0
PRODID:-//achurchnearyou.com//eventfeed//EN
CALSCALE:GREGORIAN
METHOD:PUBLISH
X-WR-TIMEZONE:UTC
BEGIN:VEVENT
SUMMARY:Ash Wednesday Holy Communion with Ashing
DTSTART:20250305T110000Z
DTEND:20250305T120000Z
DTSTAMP:20260424T194810Z
UID:11619142025-03-05 11:00:00+00:00achurchnearyou
CATEGORIES:
DESCRIPTION:A simple midweek service of Holy Communion for Ash Wednesday i
 ncluding ashing. \nAll are welcome.
LOCATION:St John's Church
URL:https://www.achurchnearyou.com/church/16814/service-and-events/events/
 1161914/
END:VEVENT
END:VCALENDAR
