BEGIN:VCALENDAR
VERSION:2.0
PRODID:-//achurchnearyou.com//eventfeed//EN
CALSCALE:GREGORIAN
METHOD:PUBLISH
X-WR-TIMEZONE:UTC
BEGIN:VEVENT
SUMMARY:Mothering Sunday service
DTSTART:20250330T100000Z
DTEND:20250330T110000Z
DTSTAMP:20260424T183628Z
UID:11619682025-03-30 10:00:00+00:00achurchnearyou
CATEGORIES:
DESCRIPTION:A special service for Mothering Sunday.
GEO:-1.305393;50.663614
LOCATION:St Olaves
URL:https://www.achurchnearyou.com/church/16814/service-and-events/events/
 1161968/
END:VEVENT
END:VCALENDAR
