BEGIN:VCALENDAR
VERSION:2.0
PRODID:-//achurchnearyou.com//eventfeed//EN
CALSCALE:GREGORIAN
METHOD:PUBLISH
X-WR-TIMEZONE:UTC
BEGIN:VEVENT
SUMMARY:Evening Prayer and Stations of the Cross
DTSTART;TZID=Europe/London:20250414T173000
DTEND;TZID=Europe/London:20250414T183000
DTSTAMP:20260424T183844Z
UID:11795032025-04-14 17:30:00+01:00achurchnearyou
CATEGORIES:
DESCRIPTION:Monday to Wednesday in Holy week Morning Prayer will be said i
 n Newport Minster. Everyone is welcome to join us.
LOCATION:St Mary's Church
URL:https://www.achurchnearyou.com/church/16814/service-and-events/events/
 1179503/
END:VEVENT
BEGIN:VEVENT
SUMMARY:Evening Prayer and Stations of the Cross
DTSTART;TZID=Europe/London:20250415T173000
DTEND;TZID=Europe/London:20250415T183000
DTSTAMP:20260424T183844Z
UID:11795032025-04-15 17:30:00+01:00achurchnearyou
CATEGORIES:
DESCRIPTION:Monday to Wednesday in Holy week Morning Prayer will be said i
 n Newport Minster. Everyone is welcome to join us.
LOCATION:St Mary's Church
URL:https://www.achurchnearyou.com/church/16814/service-and-events/events/
 1179503/
END:VEVENT
BEGIN:VEVENT
SUMMARY:Evening Prayer and Stations of the Cross
DTSTART;TZID=Europe/London:20250416T173000
DTEND;TZID=Europe/London:20250416T183000
DTSTAMP:20260424T183844Z
UID:11795032025-04-16 17:30:00+01:00achurchnearyou
CATEGORIES:
DESCRIPTION:Monday to Wednesday in Holy week Morning Prayer will be said i
 n Newport Minster. Everyone is welcome to join us.
LOCATION:St Mary's Church
URL:https://www.achurchnearyou.com/church/16814/service-and-events/events/
 1179503/
END:VEVENT
END:VCALENDAR
