BEGIN:VCALENDAR
VERSION:2.0
PRODID:-//achurchnearyou.com//eventfeed//EN
CALSCALE:GREGORIAN
METHOD:PUBLISH
X-WR-TIMEZONE:UTC
BEGIN:VEVENT
SUMMARY:Christmas Day Service
DTSTART:20251225T093000Z
DTEND:20251225T103000Z
DTSTAMP:20260423T194541Z
UID:12552852025-12-25 09:30:00+00:00achurchnearyou
CATEGORIES:
DESCRIPTION:Christmas Day Holy Communion
GEO:-1.319986;50.754471
LOCATION:All Saints
URL:https://www.achurchnearyou.com/church/16815/service-and-events/events/
 1255285/
END:VEVENT
END:VCALENDAR
