BEGIN:VCALENDAR
VERSION:2.0
PRODID:-//achurchnearyou.com//eventfeed//EN
CALSCALE:GREGORIAN
METHOD:PUBLISH
X-WR-TIMEZONE:UTC
BEGIN:VEVENT
SUMMARY:St Peter’s Craft Afternoon
DTSTART;TZID=Europe/London:20260127T140000
DTEND;TZID=Europe/London:20260127T160000
DTSTAMP:20260420T112658Z
UID:12795632026-01-27 14:00:00+00:00achurchnearyou
CATEGORIES:
DESCRIPTION:St Peter’s Craft Afternoon
GEO:-1.354579;50.644873
LOCATION:St Peter's\, Shorwell
URL:https://www.achurchnearyou.com/church/16820/service-and-events/events/
 1279563/
END:VEVENT
BEGIN:VEVENT
SUMMARY:St Peter’s Craft Afternoon
DTSTART;TZID=Europe/London:20260224T140000
DTEND;TZID=Europe/London:20260224T160000
DTSTAMP:20260420T112658Z
UID:12795632026-02-24 14:00:00+00:00achurchnearyou
CATEGORIES:
DESCRIPTION:St Peter’s Craft Afternoon
GEO:-1.354579;50.644873
LOCATION:St Peter's\, Shorwell
URL:https://www.achurchnearyou.com/church/16820/service-and-events/events/
 1279563/
END:VEVENT
BEGIN:VEVENT
SUMMARY:St Peter’s Craft Afternoon
DTSTART;TZID=Europe/London:20260324T140000
DTEND;TZID=Europe/London:20260324T160000
DTSTAMP:20260420T112658Z
UID:12795632026-03-24 14:00:00+00:00achurchnearyou
CATEGORIES:
DESCRIPTION:St Peter’s Craft Afternoon
GEO:-1.354579;50.644873
LOCATION:St Peter's\, Shorwell
URL:https://www.achurchnearyou.com/church/16820/service-and-events/events/
 1279563/
END:VEVENT
BEGIN:VEVENT
SUMMARY:St Peter’s Craft Afternoon
DTSTART;TZID=Europe/London:20260428T140000
DTEND;TZID=Europe/London:20260428T160000
DTSTAMP:20260420T112658Z
UID:12795632026-04-28 14:00:00+01:00achurchnearyou
CATEGORIES:
DESCRIPTION:St Peter’s Craft Afternoon
GEO:-1.354579;50.644873
LOCATION:St Peter's\, Shorwell
URL:https://www.achurchnearyou.com/church/16820/service-and-events/events/
 1279563/
END:VEVENT
BEGIN:VEVENT
SUMMARY:St Peter’s Craft Afternoon
DTSTART;TZID=Europe/London:20260526T140000
DTEND;TZID=Europe/London:20260526T160000
DTSTAMP:20260420T112658Z
UID:12795632026-05-26 14:00:00+01:00achurchnearyou
CATEGORIES:
DESCRIPTION:St Peter’s Craft Afternoon
GEO:-1.354579;50.644873
LOCATION:St Peter's\, Shorwell
URL:https://www.achurchnearyou.com/church/16820/service-and-events/events/
 1279563/
END:VEVENT
BEGIN:VEVENT
SUMMARY:St Peter’s Craft Afternoon
DTSTART;TZID=Europe/London:20260623T140000
DTEND;TZID=Europe/London:20260623T160000
DTSTAMP:20260420T112658Z
UID:12795632026-06-23 14:00:00+01:00achurchnearyou
CATEGORIES:
DESCRIPTION:St Peter’s Craft Afternoon
GEO:-1.354579;50.644873
LOCATION:St Peter's\, Shorwell
URL:https://www.achurchnearyou.com/church/16820/service-and-events/events/
 1279563/
END:VEVENT
BEGIN:VEVENT
SUMMARY:St Peter’s Craft Afternoon
DTSTART;TZID=Europe/London:20260728T140000
DTEND;TZID=Europe/London:20260728T160000
DTSTAMP:20260420T112658Z
UID:12795632026-07-28 14:00:00+01:00achurchnearyou
CATEGORIES:
DESCRIPTION:St Peter’s Craft Afternoon
GEO:-1.354579;50.644873
LOCATION:St Peter's\, Shorwell
URL:https://www.achurchnearyou.com/church/16820/service-and-events/events/
 1279563/
END:VEVENT
BEGIN:VEVENT
SUMMARY:St Peter’s Craft Afternoon
DTSTART;TZID=Europe/London:20260825T140000
DTEND;TZID=Europe/London:20260825T160000
DTSTAMP:20260420T112658Z
UID:12795632026-08-25 14:00:00+01:00achurchnearyou
CATEGORIES:
DESCRIPTION:St Peter’s Craft Afternoon
GEO:-1.354579;50.644873
LOCATION:St Peter's\, Shorwell
URL:https://www.achurchnearyou.com/church/16820/service-and-events/events/
 1279563/
END:VEVENT
BEGIN:VEVENT
SUMMARY:St Peter’s Craft Afternoon
DTSTART;TZID=Europe/London:20260922T140000
DTEND;TZID=Europe/London:20260922T160000
DTSTAMP:20260420T112658Z
UID:12795632026-09-22 14:00:00+01:00achurchnearyou
CATEGORIES:
DESCRIPTION:St Peter’s Craft Afternoon
GEO:-1.354579;50.644873
LOCATION:St Peter's\, Shorwell
URL:https://www.achurchnearyou.com/church/16820/service-and-events/events/
 1279563/
END:VEVENT
BEGIN:VEVENT
SUMMARY:St Peter’s Craft Afternoon
DTSTART;TZID=Europe/London:20261027T140000
DTEND;TZID=Europe/London:20261027T160000
DTSTAMP:20260420T112658Z
UID:12795632026-10-27 14:00:00+00:00achurchnearyou
CATEGORIES:
DESCRIPTION:St Peter’s Craft Afternoon
GEO:-1.354579;50.644873
LOCATION:St Peter's\, Shorwell
URL:https://www.achurchnearyou.com/church/16820/service-and-events/events/
 1279563/
END:VEVENT
BEGIN:VEVENT
SUMMARY:St Peter’s Craft Afternoon
DTSTART;TZID=Europe/London:20261124T140000
DTEND;TZID=Europe/London:20261124T160000
DTSTAMP:20260420T112658Z
UID:12795632026-11-24 14:00:00+00:00achurchnearyou
CATEGORIES:
DESCRIPTION:St Peter’s Craft Afternoon
GEO:-1.354579;50.644873
LOCATION:St Peter's\, Shorwell
URL:https://www.achurchnearyou.com/church/16820/service-and-events/events/
 1279563/
END:VEVENT
END:VCALENDAR
