BEGIN:VCALENDAR
VERSION:2.0
PRODID:-//achurchnearyou.com//eventfeed//EN
CALSCALE:GREGORIAN
METHOD:PUBLISH
X-WR-TIMEZONE:UTC
BEGIN:VEVENT
SUMMARY:Craft Lunch at the Crown Inn
DTSTART:20260127T120000Z
DTEND:20260127T134500Z
DTSTAMP:20260420T213832Z
UID:12795642026-01-27 12:00:00+00:00achurchnearyou
CATEGORIES:
DESCRIPTION:Craft Lunch at the Crown Inn
LOCATION:The Crown Inn
URL:https://www.achurchnearyou.com/church/16820/service-and-events/events/
 1279564/
END:VEVENT
END:VCALENDAR
