BEGIN:VCALENDAR
VERSION:2.0
PRODID:-//achurchnearyou.com//eventfeed//EN
CALSCALE:GREGORIAN
METHOD:PUBLISH
X-WR-TIMEZONE:UTC
BEGIN:VEVENT
SUMMARY:Coffee Morning in Church
DTSTART:20260319T100000Z
DTEND:20260319T120000Z
DTSTAMP:20260420T174206Z
UID:13008412026-03-19 10:00:00+00:00achurchnearyou
CATEGORIES:
DESCRIPTION:Coffee Morning
GEO:-1.354579;50.644873
LOCATION:St Peter's\, Shorwell
URL:https://www.achurchnearyou.com/church/16820/service-and-events/events/
 1300841/
END:VEVENT
END:VCALENDAR
