BEGIN:VCALENDAR
VERSION:2.0
PRODID:-//achurchnearyou.com//eventfeed//EN
CALSCALE:GREGORIAN
METHOD:PUBLISH
X-WR-TIMEZONE:UTC
BEGIN:VEVENT
SUMMARY:Palm Sunday
DTSTART:20250413T100000Z
DTEND:20250413T111500Z
DTSTAMP:20260425T173752Z
UID:11884642025-04-13 10:00:00+00:00achurchnearyou
CATEGORIES:
DESCRIPTION:Join us on Palm Sunday at our contemporary family 11am service
 s as we welcome in the King and kick of all our Easter services.
GEO:-1.133024;50.794098
LOCATION:CHRIST CHURCH
URL:https://www.havenchurch.uk/easter
END:VEVENT
END:VCALENDAR
