BEGIN:VCALENDAR
VERSION:2.0
PRODID:-//achurchnearyou.com//eventfeed//EN
CALSCALE:GREGORIAN
METHOD:PUBLISH
X-WR-TIMEZONE:UTC
BEGIN:VEVENT
SUMMARY:Dwell
DTSTART:20250413T170000Z
DTEND:20250413T180000Z
DTSTAMP:20260425T161847Z
UID:11884662025-04-13 17:00:00+00:00achurchnearyou
CATEGORIES:
DESCRIPTION:Come and dwell in the presence of God at our monthly stripped 
 back worship night. Start holy week with a time of prayer\, worship and re
 flection.
GEO:-1.133024;50.794098
LOCATION:CHRIST CHURCH
URL:https://www.havenchurch.uk/easter
END:VEVENT
END:VCALENDAR
