BEGIN:VCALENDAR
VERSION:2.0
PRODID:-//achurchnearyou.com//eventfeed//EN
CALSCALE:GREGORIAN
METHOD:PUBLISH
X-WR-TIMEZONE:UTC
BEGIN:VEVENT
SUMMARY:Carols on Tour
DTSTART:20251220T190000Z
DTEND:20251220T210000Z
DTSTAMP:20260424T191412Z
UID:12528192025-12-20 19:00:00+00:00achurchnearyou
CATEGORIES:
DESCRIPTION:Bringing Christmas cheer to Stoke Road and Gosport High Street
 —one carol at a time!
GEO:-1.133024;50.794098
LOCATION:CHRIST CHURCH
URL:https://www.havenchurch.uk/christmas
END:VEVENT
END:VCALENDAR
