BEGIN:VCALENDAR
VERSION:2.0
PRODID:-//achurchnearyou.com//eventfeed//EN
CALSCALE:GREGORIAN
METHOD:PUBLISH
X-WR-TIMEZONE:UTC
BEGIN:VEVENT
SUMMARY:Empty Cross
DTSTART:20260404T190000Z
DTEND:20260404T200000Z
DTSTAMP:20260424T125721Z
UID:13094702026-04-04 19:00:00+00:00achurchnearyou
CATEGORIES:
DESCRIPTION:Join us for an hour of prayer and silence at the foot of the c
 ross as we reflect on the stillness of Easter Saturday.
GEO:-1.133024;50.794098
LOCATION:CHRIST CHURCH
URL:https://www.havenchurch.uk/easter
END:VEVENT
END:VCALENDAR
