BEGIN:VCALENDAR
VERSION:2.0
PRODID:-//achurchnearyou.com//eventfeed//EN
CALSCALE:GREGORIAN
METHOD:PUBLISH
X-WR-TIMEZONE:UTC
BEGIN:VEVENT
SUMMARY:All Souls Service
DTSTART:20251102T160000Z
DTEND:20251102T173000Z
DTSTAMP:20260422T101638Z
UID:12404442025-11-02 16:00:00+00:00achurchnearyou
CATEGORIES:
DESCRIPTION:A service to remember those we love but see no more.  All are 
 welcome.
GEO:-0.886974;51.096072
LOCATION:St Matthew's
URL:https://www.achurchnearyou.com/church/16863/service-and-events/events/
 1240444/
END:VEVENT
END:VCALENDAR
