BEGIN:VCALENDAR
VERSION:2.0
PRODID:-//achurchnearyou.com//eventfeed//EN
CALSCALE:GREGORIAN
METHOD:PUBLISH
X-WR-TIMEZONE:UTC
BEGIN:VEVENT
SUMMARY:Christmas Day Communion
DTSTART:20251225T100000Z
DTEND:20251225T110000Z
DTSTAMP:20260422T080010Z
UID:12519762025-12-25 10:00:00+00:00achurchnearyou
CATEGORIES:
DESCRIPTION:A service to celebrate Christmas Day.
GEO:-0.886974;51.096072
LOCATION:St Matthew's
URL:https://www.achurchnearyou.com/church/16863/service-and-events/events/
 1251976/
END:VEVENT
END:VCALENDAR
