BEGIN:VCALENDAR
VERSION:2.0
PRODID:-//achurchnearyou.com//eventfeed//EN
CALSCALE:GREGORIAN
METHOD:PUBLISH
X-WR-TIMEZONE:UTC
BEGIN:VEVENT
SUMMARY:Choir Practice
DTSTART;TZID=Europe/London:20260424T184500
DTEND;TZID=Europe/London:20260424T194500
DTSTAMP:20260421T201526Z
UID:645792026-04-24 18:45:00+01:00achurchnearyou
CATEGORIES:
DESCRIPTION:St Matthew's choir meet to practice weekly in the church.\n\nN
 ew members always welcome.
GEO:-0.886974;51.096072
LOCATION:St Matthew's
URL:https://www.achurchnearyou.com/church/16863/service-and-events/events/
 64579/
END:VEVENT
BEGIN:VEVENT
SUMMARY:Choir Practice
DTSTART;TZID=Europe/London:20260501T184500
DTEND;TZID=Europe/London:20260501T194500
DTSTAMP:20260421T201526Z
UID:645792026-05-01 18:45:00+01:00achurchnearyou
CATEGORIES:
DESCRIPTION:St Matthew's choir meet to practice weekly in the church.\n\nN
 ew members always welcome.
GEO:-0.886974;51.096072
LOCATION:St Matthew's
URL:https://www.achurchnearyou.com/church/16863/service-and-events/events/
 64579/
END:VEVENT
BEGIN:VEVENT
SUMMARY:Choir Practice
DTSTART;TZID=Europe/London:20260508T184500
DTEND;TZID=Europe/London:20260508T194500
DTSTAMP:20260421T201526Z
UID:645792026-05-08 18:45:00+01:00achurchnearyou
CATEGORIES:
DESCRIPTION:St Matthew's choir meet to practice weekly in the church.\n\nN
 ew members always welcome.
GEO:-0.886974;51.096072
LOCATION:St Matthew's
URL:https://www.achurchnearyou.com/church/16863/service-and-events/events/
 64579/
END:VEVENT
BEGIN:VEVENT
SUMMARY:Choir Practice
DTSTART;TZID=Europe/London:20260515T184500
DTEND;TZID=Europe/London:20260515T194500
DTSTAMP:20260421T201526Z
UID:645792026-05-15 18:45:00+01:00achurchnearyou
CATEGORIES:
DESCRIPTION:St Matthew's choir meet to practice weekly in the church.\n\nN
 ew members always welcome.
GEO:-0.886974;51.096072
LOCATION:St Matthew's
URL:https://www.achurchnearyou.com/church/16863/service-and-events/events/
 64579/
END:VEVENT
BEGIN:VEVENT
SUMMARY:Choir Practice
DTSTART;TZID=Europe/London:20260522T184500
DTEND;TZID=Europe/London:20260522T194500
DTSTAMP:20260421T201526Z
UID:645792026-05-22 18:45:00+01:00achurchnearyou
CATEGORIES:
DESCRIPTION:St Matthew's choir meet to practice weekly in the church.\n\nN
 ew members always welcome.
GEO:-0.886974;51.096072
LOCATION:St Matthew's
URL:https://www.achurchnearyou.com/church/16863/service-and-events/events/
 64579/
END:VEVENT
BEGIN:VEVENT
SUMMARY:Choir Practice
DTSTART;TZID=Europe/London:20260529T184500
DTEND;TZID=Europe/London:20260529T194500
DTSTAMP:20260421T201526Z
UID:645792026-05-29 18:45:00+01:00achurchnearyou
CATEGORIES:
DESCRIPTION:St Matthew's choir meet to practice weekly in the church.\n\nN
 ew members always welcome.
GEO:-0.886974;51.096072
LOCATION:St Matthew's
URL:https://www.achurchnearyou.com/church/16863/service-and-events/events/
 64579/
END:VEVENT
BEGIN:VEVENT
SUMMARY:Choir Practice
DTSTART;TZID=Europe/London:20260605T184500
DTEND;TZID=Europe/London:20260605T194500
DTSTAMP:20260421T201526Z
UID:645792026-06-05 18:45:00+01:00achurchnearyou
CATEGORIES:
DESCRIPTION:St Matthew's choir meet to practice weekly in the church.\n\nN
 ew members always welcome.
GEO:-0.886974;51.096072
LOCATION:St Matthew's
URL:https://www.achurchnearyou.com/church/16863/service-and-events/events/
 64579/
END:VEVENT
BEGIN:VEVENT
SUMMARY:Choir Practice
DTSTART;TZID=Europe/London:20260612T184500
DTEND;TZID=Europe/London:20260612T194500
DTSTAMP:20260421T201526Z
UID:645792026-06-12 18:45:00+01:00achurchnearyou
CATEGORIES:
DESCRIPTION:St Matthew's choir meet to practice weekly in the church.\n\nN
 ew members always welcome.
GEO:-0.886974;51.096072
LOCATION:St Matthew's
URL:https://www.achurchnearyou.com/church/16863/service-and-events/events/
 64579/
END:VEVENT
BEGIN:VEVENT
SUMMARY:Choir Practice
DTSTART;TZID=Europe/London:20260619T184500
DTEND;TZID=Europe/London:20260619T194500
DTSTAMP:20260421T201526Z
UID:645792026-06-19 18:45:00+01:00achurchnearyou
CATEGORIES:
DESCRIPTION:St Matthew's choir meet to practice weekly in the church.\n\nN
 ew members always welcome.
GEO:-0.886974;51.096072
LOCATION:St Matthew's
URL:https://www.achurchnearyou.com/church/16863/service-and-events/events/
 64579/
END:VEVENT
BEGIN:VEVENT
SUMMARY:Choir Practice
DTSTART;TZID=Europe/London:20260626T184500
DTEND;TZID=Europe/London:20260626T194500
DTSTAMP:20260421T201526Z
UID:645792026-06-26 18:45:00+01:00achurchnearyou
CATEGORIES:
DESCRIPTION:St Matthew's choir meet to practice weekly in the church.\n\nN
 ew members always welcome.
GEO:-0.886974;51.096072
LOCATION:St Matthew's
URL:https://www.achurchnearyou.com/church/16863/service-and-events/events/
 64579/
END:VEVENT
BEGIN:VEVENT
SUMMARY:Choir Practice
DTSTART;TZID=Europe/London:20260703T184500
DTEND;TZID=Europe/London:20260703T194500
DTSTAMP:20260421T201526Z
UID:645792026-07-03 18:45:00+01:00achurchnearyou
CATEGORIES:
DESCRIPTION:St Matthew's choir meet to practice weekly in the church.\n\nN
 ew members always welcome.
GEO:-0.886974;51.096072
LOCATION:St Matthew's
URL:https://www.achurchnearyou.com/church/16863/service-and-events/events/
 64579/
END:VEVENT
BEGIN:VEVENT
SUMMARY:Choir Practice
DTSTART;TZID=Europe/London:20260710T184500
DTEND;TZID=Europe/London:20260710T194500
DTSTAMP:20260421T201526Z
UID:645792026-07-10 18:45:00+01:00achurchnearyou
CATEGORIES:
DESCRIPTION:St Matthew's choir meet to practice weekly in the church.\n\nN
 ew members always welcome.
GEO:-0.886974;51.096072
LOCATION:St Matthew's
URL:https://www.achurchnearyou.com/church/16863/service-and-events/events/
 64579/
END:VEVENT
BEGIN:VEVENT
SUMMARY:Choir Practice
DTSTART;TZID=Europe/London:20260717T184500
DTEND;TZID=Europe/London:20260717T194500
DTSTAMP:20260421T201526Z
UID:645792026-07-17 18:45:00+01:00achurchnearyou
CATEGORIES:
DESCRIPTION:St Matthew's choir meet to practice weekly in the church.\n\nN
 ew members always welcome.
GEO:-0.886974;51.096072
LOCATION:St Matthew's
URL:https://www.achurchnearyou.com/church/16863/service-and-events/events/
 64579/
END:VEVENT
BEGIN:VEVENT
SUMMARY:Choir Practice
DTSTART;TZID=Europe/London:20260724T184500
DTEND;TZID=Europe/London:20260724T194500
DTSTAMP:20260421T201526Z
UID:645792026-07-24 18:45:00+01:00achurchnearyou
CATEGORIES:
DESCRIPTION:St Matthew's choir meet to practice weekly in the church.\n\nN
 ew members always welcome.
GEO:-0.886974;51.096072
LOCATION:St Matthew's
URL:https://www.achurchnearyou.com/church/16863/service-and-events/events/
 64579/
END:VEVENT
BEGIN:VEVENT
SUMMARY:Choir Practice
DTSTART;TZID=Europe/London:20260731T184500
DTEND;TZID=Europe/London:20260731T194500
DTSTAMP:20260421T201526Z
UID:645792026-07-31 18:45:00+01:00achurchnearyou
CATEGORIES:
DESCRIPTION:St Matthew's choir meet to practice weekly in the church.\n\nN
 ew members always welcome.
GEO:-0.886974;51.096072
LOCATION:St Matthew's
URL:https://www.achurchnearyou.com/church/16863/service-and-events/events/
 64579/
END:VEVENT
BEGIN:VEVENT
SUMMARY:Choir Practice
DTSTART;TZID=Europe/London:20260807T184500
DTEND;TZID=Europe/London:20260807T194500
DTSTAMP:20260421T201526Z
UID:645792026-08-07 18:45:00+01:00achurchnearyou
CATEGORIES:
DESCRIPTION:St Matthew's choir meet to practice weekly in the church.\n\nN
 ew members always welcome.
GEO:-0.886974;51.096072
LOCATION:St Matthew's
URL:https://www.achurchnearyou.com/church/16863/service-and-events/events/
 64579/
END:VEVENT
BEGIN:VEVENT
SUMMARY:Choir Practice
DTSTART;TZID=Europe/London:20260814T184500
DTEND;TZID=Europe/London:20260814T194500
DTSTAMP:20260421T201526Z
UID:645792026-08-14 18:45:00+01:00achurchnearyou
CATEGORIES:
DESCRIPTION:St Matthew's choir meet to practice weekly in the church.\n\nN
 ew members always welcome.
GEO:-0.886974;51.096072
LOCATION:St Matthew's
URL:https://www.achurchnearyou.com/church/16863/service-and-events/events/
 64579/
END:VEVENT
BEGIN:VEVENT
SUMMARY:Choir Practice
DTSTART;TZID=Europe/London:20260821T184500
DTEND;TZID=Europe/London:20260821T194500
DTSTAMP:20260421T201526Z
UID:645792026-08-21 18:45:00+01:00achurchnearyou
CATEGORIES:
DESCRIPTION:St Matthew's choir meet to practice weekly in the church.\n\nN
 ew members always welcome.
GEO:-0.886974;51.096072
LOCATION:St Matthew's
URL:https://www.achurchnearyou.com/church/16863/service-and-events/events/
 64579/
END:VEVENT
BEGIN:VEVENT
SUMMARY:Choir Practice
DTSTART;TZID=Europe/London:20260828T184500
DTEND;TZID=Europe/London:20260828T194500
DTSTAMP:20260421T201526Z
UID:645792026-08-28 18:45:00+01:00achurchnearyou
CATEGORIES:
DESCRIPTION:St Matthew's choir meet to practice weekly in the church.\n\nN
 ew members always welcome.
GEO:-0.886974;51.096072
LOCATION:St Matthew's
URL:https://www.achurchnearyou.com/church/16863/service-and-events/events/
 64579/
END:VEVENT
BEGIN:VEVENT
SUMMARY:Choir Practice
DTSTART;TZID=Europe/London:20260904T184500
DTEND;TZID=Europe/London:20260904T194500
DTSTAMP:20260421T201526Z
UID:645792026-09-04 18:45:00+01:00achurchnearyou
CATEGORIES:
DESCRIPTION:St Matthew's choir meet to practice weekly in the church.\n\nN
 ew members always welcome.
GEO:-0.886974;51.096072
LOCATION:St Matthew's
URL:https://www.achurchnearyou.com/church/16863/service-and-events/events/
 64579/
END:VEVENT
BEGIN:VEVENT
SUMMARY:Choir Practice
DTSTART;TZID=Europe/London:20260911T184500
DTEND;TZID=Europe/London:20260911T194500
DTSTAMP:20260421T201526Z
UID:645792026-09-11 18:45:00+01:00achurchnearyou
CATEGORIES:
DESCRIPTION:St Matthew's choir meet to practice weekly in the church.\n\nN
 ew members always welcome.
GEO:-0.886974;51.096072
LOCATION:St Matthew's
URL:https://www.achurchnearyou.com/church/16863/service-and-events/events/
 64579/
END:VEVENT
BEGIN:VEVENT
SUMMARY:Choir Practice
DTSTART;TZID=Europe/London:20260918T184500
DTEND;TZID=Europe/London:20260918T194500
DTSTAMP:20260421T201526Z
UID:645792026-09-18 18:45:00+01:00achurchnearyou
CATEGORIES:
DESCRIPTION:St Matthew's choir meet to practice weekly in the church.\n\nN
 ew members always welcome.
GEO:-0.886974;51.096072
LOCATION:St Matthew's
URL:https://www.achurchnearyou.com/church/16863/service-and-events/events/
 64579/
END:VEVENT
BEGIN:VEVENT
SUMMARY:Choir Practice
DTSTART;TZID=Europe/London:20260925T184500
DTEND;TZID=Europe/London:20260925T194500
DTSTAMP:20260421T201526Z
UID:645792026-09-25 18:45:00+01:00achurchnearyou
CATEGORIES:
DESCRIPTION:St Matthew's choir meet to practice weekly in the church.\n\nN
 ew members always welcome.
GEO:-0.886974;51.096072
LOCATION:St Matthew's
URL:https://www.achurchnearyou.com/church/16863/service-and-events/events/
 64579/
END:VEVENT
BEGIN:VEVENT
SUMMARY:Choir Practice
DTSTART;TZID=Europe/London:20261002T184500
DTEND;TZID=Europe/London:20261002T194500
DTSTAMP:20260421T201526Z
UID:645792026-10-02 18:45:00+01:00achurchnearyou
CATEGORIES:
DESCRIPTION:St Matthew's choir meet to practice weekly in the church.\n\nN
 ew members always welcome.
GEO:-0.886974;51.096072
LOCATION:St Matthew's
URL:https://www.achurchnearyou.com/church/16863/service-and-events/events/
 64579/
END:VEVENT
BEGIN:VEVENT
SUMMARY:Choir Practice
DTSTART;TZID=Europe/London:20261009T184500
DTEND;TZID=Europe/London:20261009T194500
DTSTAMP:20260421T201526Z
UID:645792026-10-09 18:45:00+01:00achurchnearyou
CATEGORIES:
DESCRIPTION:St Matthew's choir meet to practice weekly in the church.\n\nN
 ew members always welcome.
GEO:-0.886974;51.096072
LOCATION:St Matthew's
URL:https://www.achurchnearyou.com/church/16863/service-and-events/events/
 64579/
END:VEVENT
BEGIN:VEVENT
SUMMARY:Choir Practice
DTSTART;TZID=Europe/London:20261016T184500
DTEND;TZID=Europe/London:20261016T194500
DTSTAMP:20260421T201526Z
UID:645792026-10-16 18:45:00+01:00achurchnearyou
CATEGORIES:
DESCRIPTION:St Matthew's choir meet to practice weekly in the church.\n\nN
 ew members always welcome.
GEO:-0.886974;51.096072
LOCATION:St Matthew's
URL:https://www.achurchnearyou.com/church/16863/service-and-events/events/
 64579/
END:VEVENT
BEGIN:VEVENT
SUMMARY:Choir Practice
DTSTART;TZID=Europe/London:20261023T184500
DTEND;TZID=Europe/London:20261023T194500
DTSTAMP:20260421T201526Z
UID:645792026-10-23 18:45:00+01:00achurchnearyou
CATEGORIES:
DESCRIPTION:St Matthew's choir meet to practice weekly in the church.\n\nN
 ew members always welcome.
GEO:-0.886974;51.096072
LOCATION:St Matthew's
URL:https://www.achurchnearyou.com/church/16863/service-and-events/events/
 64579/
END:VEVENT
BEGIN:VEVENT
SUMMARY:Choir Practice
DTSTART;TZID=Europe/London:20261030T184500
DTEND;TZID=Europe/London:20261030T194500
DTSTAMP:20260421T201526Z
UID:645792026-10-30 18:45:00+00:00achurchnearyou
CATEGORIES:
DESCRIPTION:St Matthew's choir meet to practice weekly in the church.\n\nN
 ew members always welcome.
GEO:-0.886974;51.096072
LOCATION:St Matthew's
URL:https://www.achurchnearyou.com/church/16863/service-and-events/events/
 64579/
END:VEVENT
BEGIN:VEVENT
SUMMARY:Choir Practice
DTSTART;TZID=Europe/London:20261106T184500
DTEND;TZID=Europe/London:20261106T194500
DTSTAMP:20260421T201526Z
UID:645792026-11-06 18:45:00+00:00achurchnearyou
CATEGORIES:
DESCRIPTION:St Matthew's choir meet to practice weekly in the church.\n\nN
 ew members always welcome.
GEO:-0.886974;51.096072
LOCATION:St Matthew's
URL:https://www.achurchnearyou.com/church/16863/service-and-events/events/
 64579/
END:VEVENT
BEGIN:VEVENT
SUMMARY:Choir Practice
DTSTART;TZID=Europe/London:20261113T184500
DTEND;TZID=Europe/London:20261113T194500
DTSTAMP:20260421T201526Z
UID:645792026-11-13 18:45:00+00:00achurchnearyou
CATEGORIES:
DESCRIPTION:St Matthew's choir meet to practice weekly in the church.\n\nN
 ew members always welcome.
GEO:-0.886974;51.096072
LOCATION:St Matthew's
URL:https://www.achurchnearyou.com/church/16863/service-and-events/events/
 64579/
END:VEVENT
BEGIN:VEVENT
SUMMARY:Choir Practice
DTSTART;TZID=Europe/London:20261120T184500
DTEND;TZID=Europe/London:20261120T194500
DTSTAMP:20260421T201526Z
UID:645792026-11-20 18:45:00+00:00achurchnearyou
CATEGORIES:
DESCRIPTION:St Matthew's choir meet to practice weekly in the church.\n\nN
 ew members always welcome.
GEO:-0.886974;51.096072
LOCATION:St Matthew's
URL:https://www.achurchnearyou.com/church/16863/service-and-events/events/
 64579/
END:VEVENT
BEGIN:VEVENT
SUMMARY:Choir Practice
DTSTART;TZID=Europe/London:20261127T184500
DTEND;TZID=Europe/London:20261127T194500
DTSTAMP:20260421T201526Z
UID:645792026-11-27 18:45:00+00:00achurchnearyou
CATEGORIES:
DESCRIPTION:St Matthew's choir meet to practice weekly in the church.\n\nN
 ew members always welcome.
GEO:-0.886974;51.096072
LOCATION:St Matthew's
URL:https://www.achurchnearyou.com/church/16863/service-and-events/events/
 64579/
END:VEVENT
BEGIN:VEVENT
SUMMARY:Choir Practice
DTSTART;TZID=Europe/London:20261204T184500
DTEND;TZID=Europe/London:20261204T194500
DTSTAMP:20260421T201526Z
UID:645792026-12-04 18:45:00+00:00achurchnearyou
CATEGORIES:
DESCRIPTION:St Matthew's choir meet to practice weekly in the church.\n\nN
 ew members always welcome.
GEO:-0.886974;51.096072
LOCATION:St Matthew's
URL:https://www.achurchnearyou.com/church/16863/service-and-events/events/
 64579/
END:VEVENT
BEGIN:VEVENT
SUMMARY:Choir Practice
DTSTART;TZID=Europe/London:20261211T184500
DTEND;TZID=Europe/London:20261211T194500
DTSTAMP:20260421T201526Z
UID:645792026-12-11 18:45:00+00:00achurchnearyou
CATEGORIES:
DESCRIPTION:St Matthew's choir meet to practice weekly in the church.\n\nN
 ew members always welcome.
GEO:-0.886974;51.096072
LOCATION:St Matthew's
URL:https://www.achurchnearyou.com/church/16863/service-and-events/events/
 64579/
END:VEVENT
BEGIN:VEVENT
SUMMARY:Choir Practice
DTSTART;TZID=Europe/London:20261218T184500
DTEND;TZID=Europe/London:20261218T194500
DTSTAMP:20260421T201526Z
UID:645792026-12-18 18:45:00+00:00achurchnearyou
CATEGORIES:
DESCRIPTION:St Matthew's choir meet to practice weekly in the church.\n\nN
 ew members always welcome.
GEO:-0.886974;51.096072
LOCATION:St Matthew's
URL:https://www.achurchnearyou.com/church/16863/service-and-events/events/
 64579/
END:VEVENT
BEGIN:VEVENT
SUMMARY:Choir Practice
DTSTART;TZID=Europe/London:20261225T184500
DTEND;TZID=Europe/London:20261225T194500
DTSTAMP:20260421T201526Z
UID:645792026-12-25 18:45:00+00:00achurchnearyou
CATEGORIES:
DESCRIPTION:St Matthew's choir meet to practice weekly in the church.\n\nN
 ew members always welcome.
GEO:-0.886974;51.096072
LOCATION:St Matthew's
URL:https://www.achurchnearyou.com/church/16863/service-and-events/events/
 64579/
END:VEVENT
BEGIN:VEVENT
SUMMARY:Choir Practice
DTSTART;TZID=Europe/London:20270101T184500
DTEND;TZID=Europe/London:20270101T194500
DTSTAMP:20260421T201526Z
UID:645792027-01-01 18:45:00+00:00achurchnearyou
CATEGORIES:
DESCRIPTION:St Matthew's choir meet to practice weekly in the church.\n\nN
 ew members always welcome.
GEO:-0.886974;51.096072
LOCATION:St Matthew's
URL:https://www.achurchnearyou.com/church/16863/service-and-events/events/
 64579/
END:VEVENT
BEGIN:VEVENT
SUMMARY:Choir Practice
DTSTART;TZID=Europe/London:20270108T184500
DTEND;TZID=Europe/London:20270108T194500
DTSTAMP:20260421T201526Z
UID:645792027-01-08 18:45:00+00:00achurchnearyou
CATEGORIES:
DESCRIPTION:St Matthew's choir meet to practice weekly in the church.\n\nN
 ew members always welcome.
GEO:-0.886974;51.096072
LOCATION:St Matthew's
URL:https://www.achurchnearyou.com/church/16863/service-and-events/events/
 64579/
END:VEVENT
BEGIN:VEVENT
SUMMARY:Choir Practice
DTSTART;TZID=Europe/London:20270115T184500
DTEND;TZID=Europe/London:20270115T194500
DTSTAMP:20260421T201526Z
UID:645792027-01-15 18:45:00+00:00achurchnearyou
CATEGORIES:
DESCRIPTION:St Matthew's choir meet to practice weekly in the church.\n\nN
 ew members always welcome.
GEO:-0.886974;51.096072
LOCATION:St Matthew's
URL:https://www.achurchnearyou.com/church/16863/service-and-events/events/
 64579/
END:VEVENT
BEGIN:VEVENT
SUMMARY:Choir Practice
DTSTART;TZID=Europe/London:20270122T184500
DTEND;TZID=Europe/London:20270122T194500
DTSTAMP:20260421T201526Z
UID:645792027-01-22 18:45:00+00:00achurchnearyou
CATEGORIES:
DESCRIPTION:St Matthew's choir meet to practice weekly in the church.\n\nN
 ew members always welcome.
GEO:-0.886974;51.096072
LOCATION:St Matthew's
URL:https://www.achurchnearyou.com/church/16863/service-and-events/events/
 64579/
END:VEVENT
BEGIN:VEVENT
SUMMARY:Choir Practice
DTSTART;TZID=Europe/London:20270129T184500
DTEND;TZID=Europe/London:20270129T194500
DTSTAMP:20260421T201526Z
UID:645792027-01-29 18:45:00+00:00achurchnearyou
CATEGORIES:
DESCRIPTION:St Matthew's choir meet to practice weekly in the church.\n\nN
 ew members always welcome.
GEO:-0.886974;51.096072
LOCATION:St Matthew's
URL:https://www.achurchnearyou.com/church/16863/service-and-events/events/
 64579/
END:VEVENT
BEGIN:VEVENT
SUMMARY:Choir Practice
DTSTART;TZID=Europe/London:20270205T184500
DTEND;TZID=Europe/London:20270205T194500
DTSTAMP:20260421T201526Z
UID:645792027-02-05 18:45:00+00:00achurchnearyou
CATEGORIES:
DESCRIPTION:St Matthew's choir meet to practice weekly in the church.\n\nN
 ew members always welcome.
GEO:-0.886974;51.096072
LOCATION:St Matthew's
URL:https://www.achurchnearyou.com/church/16863/service-and-events/events/
 64579/
END:VEVENT
BEGIN:VEVENT
SUMMARY:Choir Practice
DTSTART;TZID=Europe/London:20270212T184500
DTEND;TZID=Europe/London:20270212T194500
DTSTAMP:20260421T201526Z
UID:645792027-02-12 18:45:00+00:00achurchnearyou
CATEGORIES:
DESCRIPTION:St Matthew's choir meet to practice weekly in the church.\n\nN
 ew members always welcome.
GEO:-0.886974;51.096072
LOCATION:St Matthew's
URL:https://www.achurchnearyou.com/church/16863/service-and-events/events/
 64579/
END:VEVENT
BEGIN:VEVENT
SUMMARY:Choir Practice
DTSTART;TZID=Europe/London:20270219T184500
DTEND;TZID=Europe/London:20270219T194500
DTSTAMP:20260421T201526Z
UID:645792027-02-19 18:45:00+00:00achurchnearyou
CATEGORIES:
DESCRIPTION:St Matthew's choir meet to practice weekly in the church.\n\nN
 ew members always welcome.
GEO:-0.886974;51.096072
LOCATION:St Matthew's
URL:https://www.achurchnearyou.com/church/16863/service-and-events/events/
 64579/
END:VEVENT
BEGIN:VEVENT
SUMMARY:Choir Practice
DTSTART;TZID=Europe/London:20270226T184500
DTEND;TZID=Europe/London:20270226T194500
DTSTAMP:20260421T201526Z
UID:645792027-02-26 18:45:00+00:00achurchnearyou
CATEGORIES:
DESCRIPTION:St Matthew's choir meet to practice weekly in the church.\n\nN
 ew members always welcome.
GEO:-0.886974;51.096072
LOCATION:St Matthew's
URL:https://www.achurchnearyou.com/church/16863/service-and-events/events/
 64579/
END:VEVENT
BEGIN:VEVENT
SUMMARY:Choir Practice
DTSTART;TZID=Europe/London:20270305T184500
DTEND;TZID=Europe/London:20270305T194500
DTSTAMP:20260421T201526Z
UID:645792027-03-05 18:45:00+00:00achurchnearyou
CATEGORIES:
DESCRIPTION:St Matthew's choir meet to practice weekly in the church.\n\nN
 ew members always welcome.
GEO:-0.886974;51.096072
LOCATION:St Matthew's
URL:https://www.achurchnearyou.com/church/16863/service-and-events/events/
 64579/
END:VEVENT
BEGIN:VEVENT
SUMMARY:Choir Practice
DTSTART;TZID=Europe/London:20270312T184500
DTEND;TZID=Europe/London:20270312T194500
DTSTAMP:20260421T201526Z
UID:645792027-03-12 18:45:00+00:00achurchnearyou
CATEGORIES:
DESCRIPTION:St Matthew's choir meet to practice weekly in the church.\n\nN
 ew members always welcome.
GEO:-0.886974;51.096072
LOCATION:St Matthew's
URL:https://www.achurchnearyou.com/church/16863/service-and-events/events/
 64579/
END:VEVENT
BEGIN:VEVENT
SUMMARY:Choir Practice
DTSTART;TZID=Europe/London:20270319T184500
DTEND;TZID=Europe/London:20270319T194500
DTSTAMP:20260421T201526Z
UID:645792027-03-19 18:45:00+00:00achurchnearyou
CATEGORIES:
DESCRIPTION:St Matthew's choir meet to practice weekly in the church.\n\nN
 ew members always welcome.
GEO:-0.886974;51.096072
LOCATION:St Matthew's
URL:https://www.achurchnearyou.com/church/16863/service-and-events/events/
 64579/
END:VEVENT
BEGIN:VEVENT
SUMMARY:Choir Practice
DTSTART;TZID=Europe/London:20270326T184500
DTEND;TZID=Europe/London:20270326T194500
DTSTAMP:20260421T201526Z
UID:645792027-03-26 18:45:00+00:00achurchnearyou
CATEGORIES:
DESCRIPTION:St Matthew's choir meet to practice weekly in the church.\n\nN
 ew members always welcome.
GEO:-0.886974;51.096072
LOCATION:St Matthew's
URL:https://www.achurchnearyou.com/church/16863/service-and-events/events/
 64579/
END:VEVENT
BEGIN:VEVENT
SUMMARY:Choir Practice
DTSTART;TZID=Europe/London:20270402T184500
DTEND;TZID=Europe/London:20270402T194500
DTSTAMP:20260421T201526Z
UID:645792027-04-02 18:45:00+01:00achurchnearyou
CATEGORIES:
DESCRIPTION:St Matthew's choir meet to practice weekly in the church.\n\nN
 ew members always welcome.
GEO:-0.886974;51.096072
LOCATION:St Matthew's
URL:https://www.achurchnearyou.com/church/16863/service-and-events/events/
 64579/
END:VEVENT
BEGIN:VEVENT
SUMMARY:Choir Practice
DTSTART;TZID=Europe/London:20270409T184500
DTEND;TZID=Europe/London:20270409T194500
DTSTAMP:20260421T201526Z
UID:645792027-04-09 18:45:00+01:00achurchnearyou
CATEGORIES:
DESCRIPTION:St Matthew's choir meet to practice weekly in the church.\n\nN
 ew members always welcome.
GEO:-0.886974;51.096072
LOCATION:St Matthew's
URL:https://www.achurchnearyou.com/church/16863/service-and-events/events/
 64579/
END:VEVENT
BEGIN:VEVENT
SUMMARY:Choir Practice
DTSTART;TZID=Europe/London:20270416T184500
DTEND;TZID=Europe/London:20270416T194500
DTSTAMP:20260421T201526Z
UID:645792027-04-16 18:45:00+01:00achurchnearyou
CATEGORIES:
DESCRIPTION:St Matthew's choir meet to practice weekly in the church.\n\nN
 ew members always welcome.
GEO:-0.886974;51.096072
LOCATION:St Matthew's
URL:https://www.achurchnearyou.com/church/16863/service-and-events/events/
 64579/
END:VEVENT
END:VCALENDAR
