BEGIN:VCALENDAR
VERSION:2.0
PRODID:-//achurchnearyou.com//eventfeed//EN
CALSCALE:GREGORIAN
METHOD:PUBLISH
X-WR-TIMEZONE:UTC
BEGIN:VEVENT
SUMMARY:Easter All Age Communion
DTSTART:20230409T083000Z
DTEND:20230409T093000Z
DTSTAMP:20260421T193800Z
UID:9370062023-04-09 08:30:00+00:00achurchnearyou
CATEGORIES:
DESCRIPTION:The main Easter Day service\, with renewal of baptism vows\, t
 he worship band\, crafts for children and an Easter egg hunt!
GEO:-0.937508;51.003248
LOCATION:St Peter's Petersfield
URL:https://www.achurchnearyou.com/church/16878/service-and-events/events/
 937006/
END:VEVENT
END:VCALENDAR
