BEGIN:VCALENDAR
VERSION:2.0
PRODID:-//achurchnearyou.com//eventfeed//EN
CALSCALE:GREGORIAN
METHOD:PUBLISH
X-WR-TIMEZONE:UTC
BEGIN:VEVENT
SUMMARY:Easter Sunrise Service at Shoreham Cross
DTSTART:20260405T053000Z
DTEND:20260405T063000Z
DTSTAMP:20260425T234205Z
UID:12982852026-04-05 05:30:00+00:00achurchnearyou
CATEGORIES:
DESCRIPTION:Easter Sunrise Service at Shoreham Cross
GEO:0.18333;51.333067
LOCATION:St Peter and St Paul's Church    Shoreham Kent
URL:https://www.achurchnearyou.com/church/16928/service-and-events/events/
 1298285/
END:VEVENT
END:VCALENDAR
