BEGIN:VCALENDAR
VERSION:2.0
PRODID:-//achurchnearyou.com//eventfeed//EN
CALSCALE:GREGORIAN
METHOD:PUBLISH
X-WR-TIMEZONE:UTC
BEGIN:VEVENT
SUMMARY:Christmas Carols
DTSTART:20251221T190000Z
DTEND:20251221T203000Z
DTSTAMP:20260423T192958Z
UID:12483022025-12-21 19:00:00+00:00achurchnearyou
CATEGORIES:
DESCRIPTION:Come and join us we celebrate the joy \nof Christmas at our Ca
 rol Service.\nWe will sing some well known carols\, \nlisten to readings t
 elling the Christmas story\, \nbe treated to some extra musical numbers \n
 and enjoy mulled wine and mince pies afterwards.\nIt is a great way to sta
 rt Christmas!\nThis service will be in church and also streamed \nonline\,
  on You Tube and Facebook.
GEO:0.274385;51.150614
LOCATION:St Matt's Church
URL:https://www.stmattschurch.org.uk
END:VEVENT
END:VCALENDAR
