BEGIN:VCALENDAR
VERSION:2.0
PRODID:-//achurchnearyou.com//eventfeed//EN
CALSCALE:GREGORIAN
METHOD:PUBLISH
X-WR-TIMEZONE:UTC
BEGIN:VEVENT
SUMMARY:Christmas Family Celebration
DTSTART:20251225T100000Z
DTEND:20251225T110000Z
DTSTAMP:20260423T192920Z
UID:12483342025-12-25 10:00:00+00:00achurchnearyou
CATEGORIES:
DESCRIPTION:Come and celebrate Jesus' birth \nwith us on Christmas morning
 !\nOur 10am service will be fun and \nfestive with carols\, a short talk\,
  \nand a chance to see what presents \nyou've received!\nThis service will
  be in church and \nlive streamed on You Tube and Facebook.
GEO:0.274385;51.150614
LOCATION:St Matt's Church
URL:https://www.stmattschurch.org.uk
END:VEVENT
END:VCALENDAR
