BEGIN:VCALENDAR
VERSION:2.0
PRODID:-//achurchnearyou.com//eventfeed//EN
CALSCALE:GREGORIAN
METHOD:PUBLISH
X-WR-TIMEZONE:UTC
BEGIN:VEVENT
SUMMARY:Away in a manger
DTSTART:20251224T160000Z
DTEND:20251224T173000Z
DTSTAMP:20260423T211522Z
UID:12274492025-12-24 16:00:00+00:00achurchnearyou
CATEGORIES:
DESCRIPTION:You’re invited to dress up as a nativity character or animal
  to help us tell the Christmas story.
GEO:-1.467707;53.360671
LOCATION:Heeley Parish Church
URL:https://www.heeleyparishchurch.co.uk/
END:VEVENT
END:VCALENDAR
