BEGIN:VCALENDAR
VERSION:2.0
PRODID:-//achurchnearyou.com//eventfeed//EN
CALSCALE:GREGORIAN
METHOD:PUBLISH
X-WR-TIMEZONE:UTC
BEGIN:VEVENT
SUMMARY:Cafe Church and Toddler Group Nativity
DTSTART:20251221T104500Z
DTEND:20251221T114500Z
DTSTAMP:20260423T211528Z
UID:12276372025-12-21 10:45:00+00:00achurchnearyou
CATEGORIES:
DESCRIPTION:Family friendly worship with crafts and activities. Our Toddle
 r Group will reinact the Nativity story.
GEO:-1.467707;53.360671
LOCATION:Heeley Parish Church
URL:https://www.heeleyparishchurch.co.uk/
END:VEVENT
END:VCALENDAR
