BEGIN:VCALENDAR
VERSION:2.0
PRODID:-//achurchnearyou.com//eventfeed//EN
CALSCALE:GREGORIAN
METHOD:PUBLISH
X-WR-TIMEZONE:UTC
BEGIN:VEVENT
SUMMARY:Easter Services
DTSTART:20260402T183000Z
DTEND:20260404T193000Z
DTSTAMP:20260423T143655Z
UID:13177132026-04-02 18:30:00+00:00achurchnearyou
CATEGORIES:
DESCRIPTION:Our Easter service over Easter.  All will be made welcome.
GEO:-1.467707;53.360671
LOCATION:Heeley Parish Church
URL:https://www.achurchnearyou.com/church/17450/service-and-events/events/
 1317713/
END:VEVENT
END:VCALENDAR
