BEGIN:VCALENDAR
VERSION:2.0
PRODID:-//achurchnearyou.com//eventfeed//EN
CALSCALE:GREGORIAN
METHOD:PUBLISH
X-WR-TIMEZONE:UTC
BEGIN:VEVENT
SUMMARY:Carols by Candlelight
DTSTART:20251221T183000Z
DTEND:20251221T200000Z
DTSTAMP:20260424T044821Z
UID:1824612025-12-21 18:30:00+00:00achurchnearyou
CATEGORIES:
DESCRIPTION:The traditional Christmas service with carols\, readings and p
 rayers in a wonderful atmosphere.  The Woodhouse prize band will be joinin
 g us for the event plus special guest speakers. All surrounded by our wond
 erful Christmas decorated church and atmospheric candles.\nMulled wine and
  mince pies available afterwards.
GEO:-1.371003;53.360124
LOCATION:St James
URL:https://www.achurchnearyou.com/church/17459/service-and-events/events/
 182461/
END:VEVENT
END:VCALENDAR
