BEGIN:VCALENDAR
VERSION:2.0
PRODID:-//achurchnearyou.com//eventfeed//EN
CALSCALE:GREGORIAN
METHOD:PUBLISH
X-WR-TIMEZONE:UTC
BEGIN:VEVENT
SUMMARY:Midweek Holy Communion
DTSTART;TZID=Europe/London:20260401T100000
DTEND;TZID=Europe/London:20260401T110000
DTSTAMP:20260423T132208Z
UID:3503811775034000.0achurchnearyou
CATEGORIES:
DESCRIPTION:A monthly midweek oasis.  A quiet said service of Holy Communi
 on (Common Worship) followed by Mother's Union coffee and fellowship.  All
  welcome.\nOn all other Wednesdays there is a service at the same time at 
 Holy Trinity\, Millhouses.
GEO:-1.51731;53.326058
LOCATION:St John the Evangelist in the Parish of Abbeydale and Millhouses
URL:https://www.achurchnearyou.com/church/17463/service-and-events/events/
 350381/
END:VEVENT
BEGIN:VEVENT
SUMMARY:8am Holy Communion (BCP)
DTSTART;TZID=Europe/London:20260405T080000
DTEND;TZID=Europe/London:20260405T083000
DTSTAMP:20260423T132208Z
UID:3251941775372400.0achurchnearyou
CATEGORIES:
DESCRIPTION:A smaller-scale\, peaceful early morning communion service on 
 the 1st and 3rd Sunday of the month (2nd and 4th Sunday at Holy Trinity) u
 sing the beautiful language from the Book of Common Prayer.
GEO:-1.51731;53.326058
LOCATION:St John the Evangelist in the Parish of Abbeydale and Millhouses
URL:https://www.achurchnearyou.com/church/17463/service-and-events/events/
 325194/
END:VEVENT
BEGIN:VEVENT
SUMMARY:10am Morning Worship or Holy Communion
DTSTART;TZID=Europe/London:20260405T100000
DTEND;TZID=Europe/London:20260405T110000
DTSTAMP:20260423T132208Z
UID:8936441775379600.0achurchnearyou
CATEGORIES:
DESCRIPTION:This service alternates monthly between a non-Eucharistic 'Ser
 vice of the Word' with hymns\, readings a reflection and prayers and Holy 
 Communion.
GEO:-1.51731;53.326058
LOCATION:St John the Evangelist in the Parish of Abbeydale and Millhouses
URL:https://www.achurchnearyou.com/church/17463/service-and-events/events/
 893644/
END:VEVENT
BEGIN:VEVENT
SUMMARY:10am Joint Parish Communion
DTSTART;TZID=Europe/London:20260412T100000
DTEND;TZID=Europe/London:20260412T110000
DTSTAMP:20260423T132208Z
UID:3251951775984400.0achurchnearyou
CATEGORIES:
DESCRIPTION:The parish gathers for a service together twice a month:\n2nd 
 Sunday at Holy Trinity\;\n4th Sunday at St John's
GEO:-1.51731;53.326058
LOCATION:St John the Evangelist in the Parish of Abbeydale and Millhouses
URL:https://www.achurchnearyou.com/church/17463/service-and-events/events/
 325195/
END:VEVENT
BEGIN:VEVENT
SUMMARY:8am Holy Communion (BCP)
DTSTART;TZID=Europe/London:20260419T080000
DTEND;TZID=Europe/London:20260419T083000
DTSTAMP:20260423T132208Z
UID:3251941776582000.0achurchnearyou
CATEGORIES:
DESCRIPTION:A smaller-scale\, peaceful early morning communion service on 
 the 1st and 3rd Sunday of the month (2nd and 4th Sunday at Holy Trinity) u
 sing the beautiful language from the Book of Common Prayer.
GEO:-1.51731;53.326058
LOCATION:St John the Evangelist in the Parish of Abbeydale and Millhouses
URL:https://www.achurchnearyou.com/church/17463/service-and-events/events/
 325194/
END:VEVENT
BEGIN:VEVENT
SUMMARY:10am Family Service (Eucharist)
DTSTART;TZID=Europe/London:20260419T100000
DTEND;TZID=Europe/London:20260419T110000
DTSTAMP:20260423T132208Z
UID:3251981776589200.0achurchnearyou
CATEGORIES:
DESCRIPTION:A communion service for all the family with a talk focussed on
  involving children.\nActivities for children are also provided.\n*There i
 s an additional Family Service at Holy Trinity on every 1st Sunday of the 
 month (except January).
GEO:-1.51731;53.326058
LOCATION:St John the Evangelist in the Parish of Abbeydale and Millhouses
URL:https://www.achurchnearyou.com/church/17463/service-and-events/events/
 325198/
END:VEVENT
BEGIN:VEVENT
SUMMARY:10am Joint Parish Communion
DTSTART;TZID=Europe/London:20260426T100000
DTEND;TZID=Europe/London:20260426T110000
DTSTAMP:20260423T132208Z
UID:3251951777194000.0achurchnearyou
CATEGORIES:
DESCRIPTION:The parish gathers for a service together twice a month:\n2nd 
 Sunday at Holy Trinity\;\n4th Sunday at St John's
GEO:-1.51731;53.326058
LOCATION:St John the Evangelist in the Parish of Abbeydale and Millhouses
URL:https://www.achurchnearyou.com/church/17463/service-and-events/events/
 325195/
END:VEVENT
BEGIN:VEVENT
SUMMARY:8am Holy Communion (BCP)
DTSTART;TZID=Europe/London:20260503T080000
DTEND;TZID=Europe/London:20260503T083000
DTSTAMP:20260423T132208Z
UID:3251941777791600.0achurchnearyou
CATEGORIES:
DESCRIPTION:A smaller-scale\, peaceful early morning communion service on 
 the 1st and 3rd Sunday of the month (2nd and 4th Sunday at Holy Trinity) u
 sing the beautiful language from the Book of Common Prayer.
GEO:-1.51731;53.326058
LOCATION:St John the Evangelist in the Parish of Abbeydale and Millhouses
URL:https://www.achurchnearyou.com/church/17463/service-and-events/events/
 325194/
END:VEVENT
BEGIN:VEVENT
SUMMARY:10am Morning Worship or Holy Communion
DTSTART;TZID=Europe/London:20260503T100000
DTEND;TZID=Europe/London:20260503T110000
DTSTAMP:20260423T132208Z
UID:8936441777798800.0achurchnearyou
CATEGORIES:
DESCRIPTION:This service alternates monthly between a non-Eucharistic 'Ser
 vice of the Word' with hymns\, readings a reflection and prayers and Holy 
 Communion.
GEO:-1.51731;53.326058
LOCATION:St John the Evangelist in the Parish of Abbeydale and Millhouses
URL:https://www.achurchnearyou.com/church/17463/service-and-events/events/
 893644/
END:VEVENT
BEGIN:VEVENT
SUMMARY:Midweek Holy Communion
DTSTART;TZID=Europe/London:20260506T100000
DTEND;TZID=Europe/London:20260506T110000
DTSTAMP:20260423T132208Z
UID:3503811778058000.0achurchnearyou
CATEGORIES:
DESCRIPTION:A monthly midweek oasis.  A quiet said service of Holy Communi
 on (Common Worship) followed by Mother's Union coffee and fellowship.  All
  welcome.\nOn all other Wednesdays there is a service at the same time at 
 Holy Trinity\, Millhouses.
GEO:-1.51731;53.326058
LOCATION:St John the Evangelist in the Parish of Abbeydale and Millhouses
URL:https://www.achurchnearyou.com/church/17463/service-and-events/events/
 350381/
END:VEVENT
BEGIN:VEVENT
SUMMARY:10am Joint Parish Communion
DTSTART;TZID=Europe/London:20260510T100000
DTEND;TZID=Europe/London:20260510T110000
DTSTAMP:20260423T132208Z
UID:3251951778403600.0achurchnearyou
CATEGORIES:
DESCRIPTION:The parish gathers for a service together twice a month:\n2nd 
 Sunday at Holy Trinity\;\n4th Sunday at St John's
GEO:-1.51731;53.326058
LOCATION:St John the Evangelist in the Parish of Abbeydale and Millhouses
URL:https://www.achurchnearyou.com/church/17463/service-and-events/events/
 325195/
END:VEVENT
BEGIN:VEVENT
SUMMARY:8am Holy Communion (BCP)
DTSTART;TZID=Europe/London:20260517T080000
DTEND;TZID=Europe/London:20260517T083000
DTSTAMP:20260423T132208Z
UID:3251941779001200.0achurchnearyou
CATEGORIES:
DESCRIPTION:A smaller-scale\, peaceful early morning communion service on 
 the 1st and 3rd Sunday of the month (2nd and 4th Sunday at Holy Trinity) u
 sing the beautiful language from the Book of Common Prayer.
GEO:-1.51731;53.326058
LOCATION:St John the Evangelist in the Parish of Abbeydale and Millhouses
URL:https://www.achurchnearyou.com/church/17463/service-and-events/events/
 325194/
END:VEVENT
BEGIN:VEVENT
SUMMARY:10am Family Service (Eucharist)
DTSTART;TZID=Europe/London:20260517T100000
DTEND;TZID=Europe/London:20260517T110000
DTSTAMP:20260423T132208Z
UID:3251981779008400.0achurchnearyou
CATEGORIES:
DESCRIPTION:A communion service for all the family with a talk focussed on
  involving children.\nActivities for children are also provided.\n*There i
 s an additional Family Service at Holy Trinity on every 1st Sunday of the 
 month (except January).
GEO:-1.51731;53.326058
LOCATION:St John the Evangelist in the Parish of Abbeydale and Millhouses
URL:https://www.achurchnearyou.com/church/17463/service-and-events/events/
 325198/
END:VEVENT
BEGIN:VEVENT
SUMMARY:10am Joint Parish Communion
DTSTART;TZID=Europe/London:20260524T100000
DTEND;TZID=Europe/London:20260524T110000
DTSTAMP:20260423T132208Z
UID:3251951779613200.0achurchnearyou
CATEGORIES:
DESCRIPTION:The parish gathers for a service together twice a month:\n2nd 
 Sunday at Holy Trinity\;\n4th Sunday at St John's
GEO:-1.51731;53.326058
LOCATION:St John the Evangelist in the Parish of Abbeydale and Millhouses
URL:https://www.achurchnearyou.com/church/17463/service-and-events/events/
 325195/
END:VEVENT
BEGIN:VEVENT
SUMMARY:10am Morning Worship or Holy Communion
DTSTART;TZID=Europe/London:20260531T100000
DTEND;TZID=Europe/London:20260531T110000
DTSTAMP:20260423T132208Z
UID:8936441780218000.0achurchnearyou
CATEGORIES:
DESCRIPTION:This service alternates monthly between a non-Eucharistic 'Ser
 vice of the Word' with hymns\, readings a reflection and prayers and Holy 
 Communion.
GEO:-1.51731;53.326058
LOCATION:St John the Evangelist in the Parish of Abbeydale and Millhouses
URL:https://www.achurchnearyou.com/church/17463/service-and-events/events/
 893644/
END:VEVENT
BEGIN:VEVENT
SUMMARY:Midweek Holy Communion
DTSTART;TZID=Europe/London:20260603T100000
DTEND;TZID=Europe/London:20260603T110000
DTSTAMP:20260423T132208Z
UID:3503811780477200.0achurchnearyou
CATEGORIES:
DESCRIPTION:A monthly midweek oasis.  A quiet said service of Holy Communi
 on (Common Worship) followed by Mother's Union coffee and fellowship.  All
  welcome.\nOn all other Wednesdays there is a service at the same time at 
 Holy Trinity\, Millhouses.
GEO:-1.51731;53.326058
LOCATION:St John the Evangelist in the Parish of Abbeydale and Millhouses
URL:https://www.achurchnearyou.com/church/17463/service-and-events/events/
 350381/
END:VEVENT
BEGIN:VEVENT
SUMMARY:8am Holy Communion (BCP)
DTSTART;TZID=Europe/London:20260607T080000
DTEND;TZID=Europe/London:20260607T083000
DTSTAMP:20260423T132208Z
UID:3251941780815600.0achurchnearyou
CATEGORIES:
DESCRIPTION:A smaller-scale\, peaceful early morning communion service on 
 the 1st and 3rd Sunday of the month (2nd and 4th Sunday at Holy Trinity) u
 sing the beautiful language from the Book of Common Prayer.
GEO:-1.51731;53.326058
LOCATION:St John the Evangelist in the Parish of Abbeydale and Millhouses
URL:https://www.achurchnearyou.com/church/17463/service-and-events/events/
 325194/
END:VEVENT
BEGIN:VEVENT
SUMMARY:10am Morning Worship or Holy Communion
DTSTART;TZID=Europe/London:20260607T100000
DTEND;TZID=Europe/London:20260607T110000
DTSTAMP:20260423T132208Z
UID:8936441780822800.0achurchnearyou
CATEGORIES:
DESCRIPTION:This service alternates monthly between a non-Eucharistic 'Ser
 vice of the Word' with hymns\, readings a reflection and prayers and Holy 
 Communion.
GEO:-1.51731;53.326058
LOCATION:St John the Evangelist in the Parish of Abbeydale and Millhouses
URL:https://www.achurchnearyou.com/church/17463/service-and-events/events/
 893644/
END:VEVENT
BEGIN:VEVENT
SUMMARY:10am Joint Parish Communion
DTSTART;TZID=Europe/London:20260614T100000
DTEND;TZID=Europe/London:20260614T110000
DTSTAMP:20260423T132208Z
UID:3251951781427600.0achurchnearyou
CATEGORIES:
DESCRIPTION:The parish gathers for a service together twice a month:\n2nd 
 Sunday at Holy Trinity\;\n4th Sunday at St John's
GEO:-1.51731;53.326058
LOCATION:St John the Evangelist in the Parish of Abbeydale and Millhouses
URL:https://www.achurchnearyou.com/church/17463/service-and-events/events/
 325195/
END:VEVENT
BEGIN:VEVENT
SUMMARY:8am Holy Communion (BCP)
DTSTART;TZID=Europe/London:20260621T080000
DTEND;TZID=Europe/London:20260621T083000
DTSTAMP:20260423T132208Z
UID:3251941782025200.0achurchnearyou
CATEGORIES:
DESCRIPTION:A smaller-scale\, peaceful early morning communion service on 
 the 1st and 3rd Sunday of the month (2nd and 4th Sunday at Holy Trinity) u
 sing the beautiful language from the Book of Common Prayer.
GEO:-1.51731;53.326058
LOCATION:St John the Evangelist in the Parish of Abbeydale and Millhouses
URL:https://www.achurchnearyou.com/church/17463/service-and-events/events/
 325194/
END:VEVENT
BEGIN:VEVENT
SUMMARY:10am Family Service (Eucharist)
DTSTART;TZID=Europe/London:20260621T100000
DTEND;TZID=Europe/London:20260621T110000
DTSTAMP:20260423T132208Z
UID:3251981782032400.0achurchnearyou
CATEGORIES:
DESCRIPTION:A communion service for all the family with a talk focussed on
  involving children.\nActivities for children are also provided.\n*There i
 s an additional Family Service at Holy Trinity on every 1st Sunday of the 
 month (except January).
GEO:-1.51731;53.326058
LOCATION:St John the Evangelist in the Parish of Abbeydale and Millhouses
URL:https://www.achurchnearyou.com/church/17463/service-and-events/events/
 325198/
END:VEVENT
BEGIN:VEVENT
SUMMARY:10am Joint Parish Communion
DTSTART;TZID=Europe/London:20260628T100000
DTEND;TZID=Europe/London:20260628T110000
DTSTAMP:20260423T132208Z
UID:3251951782637200.0achurchnearyou
CATEGORIES:
DESCRIPTION:The parish gathers for a service together twice a month:\n2nd 
 Sunday at Holy Trinity\;\n4th Sunday at St John's
GEO:-1.51731;53.326058
LOCATION:St John the Evangelist in the Parish of Abbeydale and Millhouses
URL:https://www.achurchnearyou.com/church/17463/service-and-events/events/
 325195/
END:VEVENT
BEGIN:VEVENT
SUMMARY:Midweek Holy Communion
DTSTART;TZID=Europe/London:20260701T100000
DTEND;TZID=Europe/London:20260701T110000
DTSTAMP:20260423T132208Z
UID:3503811782896400.0achurchnearyou
CATEGORIES:
DESCRIPTION:A monthly midweek oasis.  A quiet said service of Holy Communi
 on (Common Worship) followed by Mother's Union coffee and fellowship.  All
  welcome.\nOn all other Wednesdays there is a service at the same time at 
 Holy Trinity\, Millhouses.
GEO:-1.51731;53.326058
LOCATION:St John the Evangelist in the Parish of Abbeydale and Millhouses
URL:https://www.achurchnearyou.com/church/17463/service-and-events/events/
 350381/
END:VEVENT
BEGIN:VEVENT
SUMMARY:8am Holy Communion (BCP)
DTSTART;TZID=Europe/London:20260705T080000
DTEND;TZID=Europe/London:20260705T083000
DTSTAMP:20260423T132208Z
UID:3251941783234800.0achurchnearyou
CATEGORIES:
DESCRIPTION:A smaller-scale\, peaceful early morning communion service on 
 the 1st and 3rd Sunday of the month (2nd and 4th Sunday at Holy Trinity) u
 sing the beautiful language from the Book of Common Prayer.
GEO:-1.51731;53.326058
LOCATION:St John the Evangelist in the Parish of Abbeydale and Millhouses
URL:https://www.achurchnearyou.com/church/17463/service-and-events/events/
 325194/
END:VEVENT
BEGIN:VEVENT
SUMMARY:10am Morning Worship or Holy Communion
DTSTART;TZID=Europe/London:20260705T100000
DTEND;TZID=Europe/London:20260705T110000
DTSTAMP:20260423T132208Z
UID:8936441783242000.0achurchnearyou
CATEGORIES:
DESCRIPTION:This service alternates monthly between a non-Eucharistic 'Ser
 vice of the Word' with hymns\, readings a reflection and prayers and Holy 
 Communion.
GEO:-1.51731;53.326058
LOCATION:St John the Evangelist in the Parish of Abbeydale and Millhouses
URL:https://www.achurchnearyou.com/church/17463/service-and-events/events/
 893644/
END:VEVENT
BEGIN:VEVENT
SUMMARY:10am Joint Parish Communion
DTSTART;TZID=Europe/London:20260712T100000
DTEND;TZID=Europe/London:20260712T110000
DTSTAMP:20260423T132208Z
UID:3251951783846800.0achurchnearyou
CATEGORIES:
DESCRIPTION:The parish gathers for a service together twice a month:\n2nd 
 Sunday at Holy Trinity\;\n4th Sunday at St John's
GEO:-1.51731;53.326058
LOCATION:St John the Evangelist in the Parish of Abbeydale and Millhouses
URL:https://www.achurchnearyou.com/church/17463/service-and-events/events/
 325195/
END:VEVENT
BEGIN:VEVENT
SUMMARY:8am Holy Communion (BCP)
DTSTART;TZID=Europe/London:20260719T080000
DTEND;TZID=Europe/London:20260719T083000
DTSTAMP:20260423T132208Z
UID:3251941784444400.0achurchnearyou
CATEGORIES:
DESCRIPTION:A smaller-scale\, peaceful early morning communion service on 
 the 1st and 3rd Sunday of the month (2nd and 4th Sunday at Holy Trinity) u
 sing the beautiful language from the Book of Common Prayer.
GEO:-1.51731;53.326058
LOCATION:St John the Evangelist in the Parish of Abbeydale and Millhouses
URL:https://www.achurchnearyou.com/church/17463/service-and-events/events/
 325194/
END:VEVENT
BEGIN:VEVENT
SUMMARY:10am Family Service (Eucharist)
DTSTART;TZID=Europe/London:20260719T100000
DTEND;TZID=Europe/London:20260719T110000
DTSTAMP:20260423T132208Z
UID:3251981784451600.0achurchnearyou
CATEGORIES:
DESCRIPTION:A communion service for all the family with a talk focussed on
  involving children.\nActivities for children are also provided.\n*There i
 s an additional Family Service at Holy Trinity on every 1st Sunday of the 
 month (except January).
GEO:-1.51731;53.326058
LOCATION:St John the Evangelist in the Parish of Abbeydale and Millhouses
URL:https://www.achurchnearyou.com/church/17463/service-and-events/events/
 325198/
END:VEVENT
BEGIN:VEVENT
SUMMARY:10am Joint Parish Communion
DTSTART;TZID=Europe/London:20260726T100000
DTEND;TZID=Europe/London:20260726T110000
DTSTAMP:20260423T132208Z
UID:3251951785056400.0achurchnearyou
CATEGORIES:
DESCRIPTION:The parish gathers for a service together twice a month:\n2nd 
 Sunday at Holy Trinity\;\n4th Sunday at St John's
GEO:-1.51731;53.326058
LOCATION:St John the Evangelist in the Parish of Abbeydale and Millhouses
URL:https://www.achurchnearyou.com/church/17463/service-and-events/events/
 325195/
END:VEVENT
BEGIN:VEVENT
SUMMARY:8am Holy Communion (BCP)
DTSTART;TZID=Europe/London:20260802T080000
DTEND;TZID=Europe/London:20260802T083000
DTSTAMP:20260423T132208Z
UID:3251941785654000.0achurchnearyou
CATEGORIES:
DESCRIPTION:A smaller-scale\, peaceful early morning communion service on 
 the 1st and 3rd Sunday of the month (2nd and 4th Sunday at Holy Trinity) u
 sing the beautiful language from the Book of Common Prayer.
GEO:-1.51731;53.326058
LOCATION:St John the Evangelist in the Parish of Abbeydale and Millhouses
URL:https://www.achurchnearyou.com/church/17463/service-and-events/events/
 325194/
END:VEVENT
BEGIN:VEVENT
SUMMARY:10am Morning Worship or Holy Communion
DTSTART;TZID=Europe/London:20260802T100000
DTEND;TZID=Europe/London:20260802T110000
DTSTAMP:20260423T132208Z
UID:8936441785661200.0achurchnearyou
CATEGORIES:
DESCRIPTION:This service alternates monthly between a non-Eucharistic 'Ser
 vice of the Word' with hymns\, readings a reflection and prayers and Holy 
 Communion.
GEO:-1.51731;53.326058
LOCATION:St John the Evangelist in the Parish of Abbeydale and Millhouses
URL:https://www.achurchnearyou.com/church/17463/service-and-events/events/
 893644/
END:VEVENT
BEGIN:VEVENT
SUMMARY:Midweek Holy Communion
DTSTART;TZID=Europe/London:20260805T100000
DTEND;TZID=Europe/London:20260805T110000
DTSTAMP:20260423T132208Z
UID:3503811785920400.0achurchnearyou
CATEGORIES:
DESCRIPTION:A monthly midweek oasis.  A quiet said service of Holy Communi
 on (Common Worship) followed by Mother's Union coffee and fellowship.  All
  welcome.\nOn all other Wednesdays there is a service at the same time at 
 Holy Trinity\, Millhouses.
GEO:-1.51731;53.326058
LOCATION:St John the Evangelist in the Parish of Abbeydale and Millhouses
URL:https://www.achurchnearyou.com/church/17463/service-and-events/events/
 350381/
END:VEVENT
BEGIN:VEVENT
SUMMARY:10am Joint Parish Communion
DTSTART;TZID=Europe/London:20260809T100000
DTEND;TZID=Europe/London:20260809T110000
DTSTAMP:20260423T132208Z
UID:3251951786266000.0achurchnearyou
CATEGORIES:
DESCRIPTION:The parish gathers for a service together twice a month:\n2nd 
 Sunday at Holy Trinity\;\n4th Sunday at St John's
GEO:-1.51731;53.326058
LOCATION:St John the Evangelist in the Parish of Abbeydale and Millhouses
URL:https://www.achurchnearyou.com/church/17463/service-and-events/events/
 325195/
END:VEVENT
BEGIN:VEVENT
SUMMARY:8am Holy Communion (BCP)
DTSTART;TZID=Europe/London:20260816T080000
DTEND;TZID=Europe/London:20260816T083000
DTSTAMP:20260423T132208Z
UID:3251941786863600.0achurchnearyou
CATEGORIES:
DESCRIPTION:A smaller-scale\, peaceful early morning communion service on 
 the 1st and 3rd Sunday of the month (2nd and 4th Sunday at Holy Trinity) u
 sing the beautiful language from the Book of Common Prayer.
GEO:-1.51731;53.326058
LOCATION:St John the Evangelist in the Parish of Abbeydale and Millhouses
URL:https://www.achurchnearyou.com/church/17463/service-and-events/events/
 325194/
END:VEVENT
BEGIN:VEVENT
SUMMARY:10am Family Service (Eucharist)
DTSTART;TZID=Europe/London:20260816T100000
DTEND;TZID=Europe/London:20260816T110000
DTSTAMP:20260423T132208Z
UID:3251981786870800.0achurchnearyou
CATEGORIES:
DESCRIPTION:A communion service for all the family with a talk focussed on
  involving children.\nActivities for children are also provided.\n*There i
 s an additional Family Service at Holy Trinity on every 1st Sunday of the 
 month (except January).
GEO:-1.51731;53.326058
LOCATION:St John the Evangelist in the Parish of Abbeydale and Millhouses
URL:https://www.achurchnearyou.com/church/17463/service-and-events/events/
 325198/
END:VEVENT
BEGIN:VEVENT
SUMMARY:10am Joint Parish Communion
DTSTART;TZID=Europe/London:20260823T100000
DTEND;TZID=Europe/London:20260823T110000
DTSTAMP:20260423T132208Z
UID:3251951787475600.0achurchnearyou
CATEGORIES:
DESCRIPTION:The parish gathers for a service together twice a month:\n2nd 
 Sunday at Holy Trinity\;\n4th Sunday at St John's
GEO:-1.51731;53.326058
LOCATION:St John the Evangelist in the Parish of Abbeydale and Millhouses
URL:https://www.achurchnearyou.com/church/17463/service-and-events/events/
 325195/
END:VEVENT
BEGIN:VEVENT
SUMMARY:10am Morning Worship or Holy Communion
DTSTART;TZID=Europe/London:20260830T100000
DTEND;TZID=Europe/London:20260830T110000
DTSTAMP:20260423T132208Z
UID:8936441788080400.0achurchnearyou
CATEGORIES:
DESCRIPTION:This service alternates monthly between a non-Eucharistic 'Ser
 vice of the Word' with hymns\, readings a reflection and prayers and Holy 
 Communion.
GEO:-1.51731;53.326058
LOCATION:St John the Evangelist in the Parish of Abbeydale and Millhouses
URL:https://www.achurchnearyou.com/church/17463/service-and-events/events/
 893644/
END:VEVENT
BEGIN:VEVENT
SUMMARY:Midweek Holy Communion
DTSTART;TZID=Europe/London:20260902T100000
DTEND;TZID=Europe/London:20260902T110000
DTSTAMP:20260423T132208Z
UID:3503811788339600.0achurchnearyou
CATEGORIES:
DESCRIPTION:A monthly midweek oasis.  A quiet said service of Holy Communi
 on (Common Worship) followed by Mother's Union coffee and fellowship.  All
  welcome.\nOn all other Wednesdays there is a service at the same time at 
 Holy Trinity\, Millhouses.
GEO:-1.51731;53.326058
LOCATION:St John the Evangelist in the Parish of Abbeydale and Millhouses
URL:https://www.achurchnearyou.com/church/17463/service-and-events/events/
 350381/
END:VEVENT
BEGIN:VEVENT
SUMMARY:8am Holy Communion (BCP)
DTSTART;TZID=Europe/London:20260906T080000
DTEND;TZID=Europe/London:20260906T083000
DTSTAMP:20260423T132208Z
UID:3251941788678000.0achurchnearyou
CATEGORIES:
DESCRIPTION:A smaller-scale\, peaceful early morning communion service on 
 the 1st and 3rd Sunday of the month (2nd and 4th Sunday at Holy Trinity) u
 sing the beautiful language from the Book of Common Prayer.
GEO:-1.51731;53.326058
LOCATION:St John the Evangelist in the Parish of Abbeydale and Millhouses
URL:https://www.achurchnearyou.com/church/17463/service-and-events/events/
 325194/
END:VEVENT
BEGIN:VEVENT
SUMMARY:10am Morning Worship or Holy Communion
DTSTART;TZID=Europe/London:20260906T100000
DTEND;TZID=Europe/London:20260906T110000
DTSTAMP:20260423T132208Z
UID:8936441788685200.0achurchnearyou
CATEGORIES:
DESCRIPTION:This service alternates monthly between a non-Eucharistic 'Ser
 vice of the Word' with hymns\, readings a reflection and prayers and Holy 
 Communion.
GEO:-1.51731;53.326058
LOCATION:St John the Evangelist in the Parish of Abbeydale and Millhouses
URL:https://www.achurchnearyou.com/church/17463/service-and-events/events/
 893644/
END:VEVENT
BEGIN:VEVENT
SUMMARY:10am Joint Parish Communion
DTSTART;TZID=Europe/London:20260913T100000
DTEND;TZID=Europe/London:20260913T110000
DTSTAMP:20260423T132208Z
UID:3251951789290000.0achurchnearyou
CATEGORIES:
DESCRIPTION:The parish gathers for a service together twice a month:\n2nd 
 Sunday at Holy Trinity\;\n4th Sunday at St John's
GEO:-1.51731;53.326058
LOCATION:St John the Evangelist in the Parish of Abbeydale and Millhouses
URL:https://www.achurchnearyou.com/church/17463/service-and-events/events/
 325195/
END:VEVENT
BEGIN:VEVENT
SUMMARY:8am Holy Communion (BCP)
DTSTART;TZID=Europe/London:20260920T080000
DTEND;TZID=Europe/London:20260920T083000
DTSTAMP:20260423T132208Z
UID:3251941789887600.0achurchnearyou
CATEGORIES:
DESCRIPTION:A smaller-scale\, peaceful early morning communion service on 
 the 1st and 3rd Sunday of the month (2nd and 4th Sunday at Holy Trinity) u
 sing the beautiful language from the Book of Common Prayer.
GEO:-1.51731;53.326058
LOCATION:St John the Evangelist in the Parish of Abbeydale and Millhouses
URL:https://www.achurchnearyou.com/church/17463/service-and-events/events/
 325194/
END:VEVENT
BEGIN:VEVENT
SUMMARY:10am Family Service (Eucharist)
DTSTART;TZID=Europe/London:20260920T100000
DTEND;TZID=Europe/London:20260920T110000
DTSTAMP:20260423T132208Z
UID:3251981789894800.0achurchnearyou
CATEGORIES:
DESCRIPTION:A communion service for all the family with a talk focussed on
  involving children.\nActivities for children are also provided.\n*There i
 s an additional Family Service at Holy Trinity on every 1st Sunday of the 
 month (except January).
GEO:-1.51731;53.326058
LOCATION:St John the Evangelist in the Parish of Abbeydale and Millhouses
URL:https://www.achurchnearyou.com/church/17463/service-and-events/events/
 325198/
END:VEVENT
BEGIN:VEVENT
SUMMARY:10am Joint Parish Communion
DTSTART;TZID=Europe/London:20260927T100000
DTEND;TZID=Europe/London:20260927T110000
DTSTAMP:20260423T132208Z
UID:3251951790499600.0achurchnearyou
CATEGORIES:
DESCRIPTION:The parish gathers for a service together twice a month:\n2nd 
 Sunday at Holy Trinity\;\n4th Sunday at St John's
GEO:-1.51731;53.326058
LOCATION:St John the Evangelist in the Parish of Abbeydale and Millhouses
URL:https://www.achurchnearyou.com/church/17463/service-and-events/events/
 325195/
END:VEVENT
END:VCALENDAR
