BEGIN:VCALENDAR
VERSION:2.0
PRODID:-//achurchnearyou.com//eventfeed//EN
CALSCALE:GREGORIAN
METHOD:PUBLISH
X-WR-TIMEZONE:UTC
BEGIN:VEVENT
SUMMARY:Our Easter events & Services in 2026
DTSTART;TZID=Europe/London:20260329T090000
DTEND;TZID=Europe/London:20260329T210000
DTSTAMP:20260421T235502Z
UID:11679702026-03-29 09:00:00+01:00achurchnearyou
CATEGORIES:
DESCRIPTION:A list of our special services as we move towards Easter Sunda
 y :\nSunday 29th March 2026 - Palm Sunday Service ( Morning Worship) at 10
 am\n30th March to -2nd April – prayers / Services during Easter week : 
 – \nOn Monday 30th March and Tuesday 31st March Morning Prayers at St. C
 had’s church - 9am\nOn Wednesday 1st April  and Thursday 2nd April  Morn
 ing Prayers at St. Paul’s church - 9am\nOur joint Mission Area Maundy Th
 ursday service (2nd April )will be at  7:30pm at St.Chad's Church\nOn Good
  Friday 3rd April 2025 – an hour at the cross at 2pm\nThe Darkest Night 
  Easter Vigil 4th April 2025 at 6:30PM at St.Paul's \nOn Easter Sunday 5th
  April 2025 :-\n6:00am  – sunrise service – in Meersbrook park - meet 
 at Bishop's House\n10am – Holy Communion Service at St.Paul's
GEO:-1.472951;53.349981
LOCATION:St Paul's \, Norton Lees
URL:https://www.achurchnearyou.com/church/17473/service-and-events/events/
 1167970/
END:VEVENT
BEGIN:VEVENT
SUMMARY:Our Easter events & Services in 2026
DTSTART;TZID=Europe/London:20260330T090000
DTEND;TZID=Europe/London:20260330T210000
DTSTAMP:20260421T235502Z
UID:11679702026-03-30 09:00:00+01:00achurchnearyou
CATEGORIES:
DESCRIPTION:A list of our special services as we move towards Easter Sunda
 y :\nSunday 29th March 2026 - Palm Sunday Service ( Morning Worship) at 10
 am\n30th March to -2nd April – prayers / Services during Easter week : 
 – \nOn Monday 30th March and Tuesday 31st March Morning Prayers at St. C
 had’s church - 9am\nOn Wednesday 1st April  and Thursday 2nd April  Morn
 ing Prayers at St. Paul’s church - 9am\nOur joint Mission Area Maundy Th
 ursday service (2nd April )will be at  7:30pm at St.Chad's Church\nOn Good
  Friday 3rd April 2025 – an hour at the cross at 2pm\nThe Darkest Night 
  Easter Vigil 4th April 2025 at 6:30PM at St.Paul's \nOn Easter Sunday 5th
  April 2025 :-\n6:00am  – sunrise service – in Meersbrook park - meet 
 at Bishop's House\n10am – Holy Communion Service at St.Paul's
GEO:-1.472951;53.349981
LOCATION:St Paul's \, Norton Lees
URL:https://www.achurchnearyou.com/church/17473/service-and-events/events/
 1167970/
END:VEVENT
BEGIN:VEVENT
SUMMARY:Our Easter events & Services in 2026
DTSTART;TZID=Europe/London:20260331T090000
DTEND;TZID=Europe/London:20260331T210000
DTSTAMP:20260421T235502Z
UID:11679702026-03-31 09:00:00+01:00achurchnearyou
CATEGORIES:
DESCRIPTION:A list of our special services as we move towards Easter Sunda
 y :\nSunday 29th March 2026 - Palm Sunday Service ( Morning Worship) at 10
 am\n30th March to -2nd April – prayers / Services during Easter week : 
 – \nOn Monday 30th March and Tuesday 31st March Morning Prayers at St. C
 had’s church - 9am\nOn Wednesday 1st April  and Thursday 2nd April  Morn
 ing Prayers at St. Paul’s church - 9am\nOur joint Mission Area Maundy Th
 ursday service (2nd April )will be at  7:30pm at St.Chad's Church\nOn Good
  Friday 3rd April 2025 – an hour at the cross at 2pm\nThe Darkest Night 
  Easter Vigil 4th April 2025 at 6:30PM at St.Paul's \nOn Easter Sunday 5th
  April 2025 :-\n6:00am  – sunrise service – in Meersbrook park - meet 
 at Bishop's House\n10am – Holy Communion Service at St.Paul's
GEO:-1.472951;53.349981
LOCATION:St Paul's \, Norton Lees
URL:https://www.achurchnearyou.com/church/17473/service-and-events/events/
 1167970/
END:VEVENT
BEGIN:VEVENT
SUMMARY:Our Easter events & Services in 2026
DTSTART;TZID=Europe/London:20260401T090000
DTEND;TZID=Europe/London:20260401T210000
DTSTAMP:20260421T235502Z
UID:11679702026-04-01 09:00:00+01:00achurchnearyou
CATEGORIES:
DESCRIPTION:A list of our special services as we move towards Easter Sunda
 y :\nSunday 29th March 2026 - Palm Sunday Service ( Morning Worship) at 10
 am\n30th March to -2nd April – prayers / Services during Easter week : 
 – \nOn Monday 30th March and Tuesday 31st March Morning Prayers at St. C
 had’s church - 9am\nOn Wednesday 1st April  and Thursday 2nd April  Morn
 ing Prayers at St. Paul’s church - 9am\nOur joint Mission Area Maundy Th
 ursday service (2nd April )will be at  7:30pm at St.Chad's Church\nOn Good
  Friday 3rd April 2025 – an hour at the cross at 2pm\nThe Darkest Night 
  Easter Vigil 4th April 2025 at 6:30PM at St.Paul's \nOn Easter Sunday 5th
  April 2025 :-\n6:00am  – sunrise service – in Meersbrook park - meet 
 at Bishop's House\n10am – Holy Communion Service at St.Paul's
GEO:-1.472951;53.349981
LOCATION:St Paul's \, Norton Lees
URL:https://www.achurchnearyou.com/church/17473/service-and-events/events/
 1167970/
END:VEVENT
BEGIN:VEVENT
SUMMARY:Our Easter events & Services in 2026
DTSTART;TZID=Europe/London:20260402T090000
DTEND;TZID=Europe/London:20260402T210000
DTSTAMP:20260421T235502Z
UID:11679702026-04-02 09:00:00+01:00achurchnearyou
CATEGORIES:
DESCRIPTION:A list of our special services as we move towards Easter Sunda
 y :\nSunday 29th March 2026 - Palm Sunday Service ( Morning Worship) at 10
 am\n30th March to -2nd April – prayers / Services during Easter week : 
 – \nOn Monday 30th March and Tuesday 31st March Morning Prayers at St. C
 had’s church - 9am\nOn Wednesday 1st April  and Thursday 2nd April  Morn
 ing Prayers at St. Paul’s church - 9am\nOur joint Mission Area Maundy Th
 ursday service (2nd April )will be at  7:30pm at St.Chad's Church\nOn Good
  Friday 3rd April 2025 – an hour at the cross at 2pm\nThe Darkest Night 
  Easter Vigil 4th April 2025 at 6:30PM at St.Paul's \nOn Easter Sunday 5th
  April 2025 :-\n6:00am  – sunrise service – in Meersbrook park - meet 
 at Bishop's House\n10am – Holy Communion Service at St.Paul's
GEO:-1.472951;53.349981
LOCATION:St Paul's \, Norton Lees
URL:https://www.achurchnearyou.com/church/17473/service-and-events/events/
 1167970/
END:VEVENT
BEGIN:VEVENT
SUMMARY:Our Easter events & Services in 2026
DTSTART;TZID=Europe/London:20260403T090000
DTEND;TZID=Europe/London:20260403T210000
DTSTAMP:20260421T235502Z
UID:11679702026-04-03 09:00:00+01:00achurchnearyou
CATEGORIES:
DESCRIPTION:A list of our special services as we move towards Easter Sunda
 y :\nSunday 29th March 2026 - Palm Sunday Service ( Morning Worship) at 10
 am\n30th March to -2nd April – prayers / Services during Easter week : 
 – \nOn Monday 30th March and Tuesday 31st March Morning Prayers at St. C
 had’s church - 9am\nOn Wednesday 1st April  and Thursday 2nd April  Morn
 ing Prayers at St. Paul’s church - 9am\nOur joint Mission Area Maundy Th
 ursday service (2nd April )will be at  7:30pm at St.Chad's Church\nOn Good
  Friday 3rd April 2025 – an hour at the cross at 2pm\nThe Darkest Night 
  Easter Vigil 4th April 2025 at 6:30PM at St.Paul's \nOn Easter Sunday 5th
  April 2025 :-\n6:00am  – sunrise service – in Meersbrook park - meet 
 at Bishop's House\n10am – Holy Communion Service at St.Paul's
GEO:-1.472951;53.349981
LOCATION:St Paul's \, Norton Lees
URL:https://www.achurchnearyou.com/church/17473/service-and-events/events/
 1167970/
END:VEVENT
BEGIN:VEVENT
SUMMARY:Our Easter events & Services in 2026
DTSTART;TZID=Europe/London:20260404T090000
DTEND;TZID=Europe/London:20260404T210000
DTSTAMP:20260421T235502Z
UID:11679702026-04-04 09:00:00+01:00achurchnearyou
CATEGORIES:
DESCRIPTION:A list of our special services as we move towards Easter Sunda
 y :\nSunday 29th March 2026 - Palm Sunday Service ( Morning Worship) at 10
 am\n30th March to -2nd April – prayers / Services during Easter week : 
 – \nOn Monday 30th March and Tuesday 31st March Morning Prayers at St. C
 had’s church - 9am\nOn Wednesday 1st April  and Thursday 2nd April  Morn
 ing Prayers at St. Paul’s church - 9am\nOur joint Mission Area Maundy Th
 ursday service (2nd April )will be at  7:30pm at St.Chad's Church\nOn Good
  Friday 3rd April 2025 – an hour at the cross at 2pm\nThe Darkest Night 
  Easter Vigil 4th April 2025 at 6:30PM at St.Paul's \nOn Easter Sunday 5th
  April 2025 :-\n6:00am  – sunrise service – in Meersbrook park - meet 
 at Bishop's House\n10am – Holy Communion Service at St.Paul's
GEO:-1.472951;53.349981
LOCATION:St Paul's \, Norton Lees
URL:https://www.achurchnearyou.com/church/17473/service-and-events/events/
 1167970/
END:VEVENT
BEGIN:VEVENT
SUMMARY:Our Easter events & Services in 2026
DTSTART;TZID=Europe/London:20260405T090000
DTEND;TZID=Europe/London:20260405T210000
DTSTAMP:20260421T235502Z
UID:11679702026-04-05 09:00:00+01:00achurchnearyou
CATEGORIES:
DESCRIPTION:A list of our special services as we move towards Easter Sunda
 y :\nSunday 29th March 2026 - Palm Sunday Service ( Morning Worship) at 10
 am\n30th March to -2nd April – prayers / Services during Easter week : 
 – \nOn Monday 30th March and Tuesday 31st March Morning Prayers at St. C
 had’s church - 9am\nOn Wednesday 1st April  and Thursday 2nd April  Morn
 ing Prayers at St. Paul’s church - 9am\nOur joint Mission Area Maundy Th
 ursday service (2nd April )will be at  7:30pm at St.Chad's Church\nOn Good
  Friday 3rd April 2025 – an hour at the cross at 2pm\nThe Darkest Night 
  Easter Vigil 4th April 2025 at 6:30PM at St.Paul's \nOn Easter Sunday 5th
  April 2025 :-\n6:00am  – sunrise service – in Meersbrook park - meet 
 at Bishop's House\n10am – Holy Communion Service at St.Paul's
GEO:-1.472951;53.349981
LOCATION:St Paul's \, Norton Lees
URL:https://www.achurchnearyou.com/church/17473/service-and-events/events/
 1167970/
END:VEVENT
END:VCALENDAR
