BEGIN:VCALENDAR
VERSION:2.0
PRODID:-//achurchnearyou.com//eventfeed//EN
CALSCALE:GREGORIAN
METHOD:PUBLISH
X-WR-TIMEZONE:UTC
BEGIN:VEVENT
SUMMARY:Forest Church
DTSTART;TZID=Europe/London:20260419T160000
DTEND;TZID=Europe/London:20260419T173000
DTSTAMP:20260422T105625Z
UID:13144622026-04-19 16:00:00+01:00achurchnearyou
CATEGORIES:
DESCRIPTION:Inclusive\, all age\, outdoor worship on the field behind St T
 im's in Crookes. Meeting to mark the Celtic holy days and meet our Creator
  together through the seasons. 4pm or 3pm on Sunday afternoons.
GEO:-1.504108;53.388197
LOCATION:St Timothy's\, Crookes
URL:https://www.achurchnearyou.com/church/17496/service-and-events/events/
 1314462/
END:VEVENT
BEGIN:VEVENT
SUMMARY:Forest Church
DTSTART;TZID=Europe/London:20260621T160000
DTEND;TZID=Europe/London:20260621T173000
DTSTAMP:20260422T105625Z
UID:13144622026-06-21 16:00:00+01:00achurchnearyou
CATEGORIES:
DESCRIPTION:Inclusive\, all age\, outdoor worship on the field behind St T
 im's in Crookes. Meeting to mark the Celtic holy days and meet our Creator
  together through the seasons. 4pm or 3pm on Sunday afternoons.
GEO:-1.504108;53.388197
LOCATION:St Timothy's\, Crookes
URL:https://www.achurchnearyou.com/church/17496/service-and-events/events/
 1314462/
END:VEVENT
BEGIN:VEVENT
SUMMARY:Forest Church
DTSTART;TZID=Europe/London:20260816T160000
DTEND;TZID=Europe/London:20260816T173000
DTSTAMP:20260422T105625Z
UID:13144622026-08-16 16:00:00+01:00achurchnearyou
CATEGORIES:
DESCRIPTION:Inclusive\, all age\, outdoor worship on the field behind St T
 im's in Crookes. Meeting to mark the Celtic holy days and meet our Creator
  together through the seasons. 4pm or 3pm on Sunday afternoons.
GEO:-1.504108;53.388197
LOCATION:St Timothy's\, Crookes
URL:https://www.achurchnearyou.com/church/17496/service-and-events/events/
 1314462/
END:VEVENT
BEGIN:VEVENT
SUMMARY:Forest Church
DTSTART;TZID=Europe/London:20260920T160000
DTEND;TZID=Europe/London:20260920T173000
DTSTAMP:20260422T105625Z
UID:13144622026-09-20 16:00:00+01:00achurchnearyou
CATEGORIES:
DESCRIPTION:Inclusive\, all age\, outdoor worship on the field behind St T
 im's in Crookes. Meeting to mark the Celtic holy days and meet our Creator
  together through the seasons. 4pm or 3pm on Sunday afternoons.
GEO:-1.504108;53.388197
LOCATION:St Timothy's\, Crookes
URL:https://www.achurchnearyou.com/church/17496/service-and-events/events/
 1314462/
END:VEVENT
BEGIN:VEVENT
SUMMARY:Forest Church
DTSTART;TZID=Europe/London:20261101T160000
DTEND;TZID=Europe/London:20261101T173000
DTSTAMP:20260422T105625Z
UID:13144622026-11-01 16:00:00+00:00achurchnearyou
CATEGORIES:
DESCRIPTION:Inclusive\, all age\, outdoor worship on the field behind St T
 im's in Crookes. Meeting to mark the Celtic holy days and meet our Creator
  together through the seasons. 4pm or 3pm on Sunday afternoons.
GEO:-1.504108;53.388197
LOCATION:St Timothy's\, Crookes
URL:https://www.achurchnearyou.com/church/17496/service-and-events/events/
 1314462/
END:VEVENT
BEGIN:VEVENT
SUMMARY:Forest Church
DTSTART;TZID=Europe/London:20261213T160000
DTEND;TZID=Europe/London:20261213T173000
DTSTAMP:20260422T105625Z
UID:13144622026-12-13 16:00:00+00:00achurchnearyou
CATEGORIES:
DESCRIPTION:Inclusive\, all age\, outdoor worship on the field behind St T
 im's in Crookes. Meeting to mark the Celtic holy days and meet our Creator
  together through the seasons. 4pm or 3pm on Sunday afternoons.
GEO:-1.504108;53.388197
LOCATION:St Timothy's\, Crookes
URL:https://www.achurchnearyou.com/church/17496/service-and-events/events/
 1314462/
END:VEVENT
END:VCALENDAR
